BEGIN:VCALENDAR
VERSION:2.0
PRODID:-//Stichting Ondernemersfonds Breda - ECPv6.15.13.1//NONSGML v1.0//EN
CALSCALE:GREGORIAN
METHOD:PUBLISH
X-WR-CALNAME:Stichting Ondernemersfonds Breda
X-ORIGINAL-URL:https://ondernemersfondsbreda.nl
X-WR-CALDESC:Evenementen voor Stichting Ondernemersfonds Breda
REFRESH-INTERVAL;VALUE=DURATION:PT1H
X-Robots-Tag:noindex
X-PUBLISHED-TTL:PT1H
BEGIN:VTIMEZONE
TZID:UTC
BEGIN:STANDARD
TZOFFSETFROM:+0000
TZOFFSETTO:+0000
TZNAME:UTC
DTSTART:20240101T000000
END:STANDARD
END:VTIMEZONE
BEGIN:VEVENT
DTSTART;VALUE=DATE:20251005
DTEND;VALUE=DATE:20251006
DTSTAMP:20260422T011231
CREATED:20241119T100340Z
LAST-MODIFIED:20241119T100340Z
UID:1471-1759622400-1759708799@ondernemersfondsbreda.nl
SUMMARY:Singelloop
DESCRIPTION:Winkels binnen de Singels gesloten
URL:https://ondernemersfondsbreda.nl/kalender/singelloop-2/
CATEGORIES:Evenementen
END:VEVENT
END:VCALENDAR