BEGIN:VCALENDAR
VERSION:2.0
PRODID:-//Stichting Ondernemersfonds Breda - ECPv6.15.13.1//NONSGML v1.0//EN
CALSCALE:GREGORIAN
METHOD:PUBLISH
X-WR-CALNAME:Stichting Ondernemersfonds Breda
X-ORIGINAL-URL:https://ondernemersfondsbreda.nl
X-WR-CALDESC:Evenementen voor Stichting Ondernemersfonds Breda
REFRESH-INTERVAL;VALUE=DURATION:PT1H
X-Robots-Tag:noindex
X-PUBLISHED-TTL:PT1H
BEGIN:VTIMEZONE
TZID:UTC
BEGIN:STANDARD
TZOFFSETFROM:+0000
TZOFFSETTO:+0000
TZNAME:UTC
DTSTART:20240101T000000
END:STANDARD
END:VTIMEZONE
BEGIN:VEVENT
DTSTART;TZID=UTC:20251212T000000
DTEND;TZID=UTC:20260104T000000
DTSTAMP:20260421T220529
CREATED:20241119T100411Z
LAST-MODIFIED:20241119T100411Z
UID:1483-1765497600-1767484800@ondernemersfondsbreda.nl
SUMMARY:Breda Straalt
DESCRIPTION:
URL:https://ondernemersfondsbreda.nl/kalender/breda-straalt-3/
CATEGORIES:Evenementen
END:VEVENT
END:VCALENDAR