BEGIN:VCALENDAR
VERSION:2.0
PRODID:-//Stichting Ondernemersfonds Breda - ECPv6.15.13.1//NONSGML v1.0//EN
CALSCALE:GREGORIAN
METHOD:PUBLISH
X-ORIGINAL-URL:https://ondernemersfondsbreda.nl
X-WR-CALDESC:Evenementen voor Stichting Ondernemersfonds Breda
REFRESH-INTERVAL;VALUE=DURATION:PT1H
X-Robots-Tag:noindex
X-PUBLISHED-TTL:PT1H
BEGIN:VTIMEZONE
TZID:UTC
BEGIN:STANDARD
TZOFFSETFROM:+0000
TZOFFSETTO:+0000
TZNAME:UTC
DTSTART:20250101T000000
END:STANDARD
END:VTIMEZONE
BEGIN:VEVENT
DTSTART;VALUE=DATE:20260903
DTEND;VALUE=DATE:20260906
DTSTAMP:20260421T220632
CREATED:20230517T110159Z
LAST-MODIFIED:20260203T101718Z
UID:981-1788393600-1788652799@ondernemersfondsbreda.nl
SUMMARY:Intro Festival Breda
DESCRIPTION:Chasséveld
URL:https://ondernemersfondsbreda.nl/kalender/hbo-intro-festival/
CATEGORIES:Evenementen
END:VEVENT
END:VCALENDAR