BEGIN:VCALENDAR
VERSION:2.0
PRODID:-//Stichting Ondernemersfonds Breda - ECPv6.15.13.1//NONSGML v1.0//EN
CALSCALE:GREGORIAN
METHOD:PUBLISH
X-WR-CALNAME:Stichting Ondernemersfonds Breda
X-ORIGINAL-URL:https://ondernemersfondsbreda.nl
X-WR-CALDESC:Evenementen voor Stichting Ondernemersfonds Breda
REFRESH-INTERVAL;VALUE=DURATION:PT1H
X-Robots-Tag:noindex
X-PUBLISHED-TTL:PT1H
BEGIN:VTIMEZONE
TZID:UTC
BEGIN:STANDARD
TZOFFSETFROM:+0000
TZOFFSETTO:+0000
TZNAME:UTC
DTSTART:20250101T000000
END:STANDARD
END:VTIMEZONE
BEGIN:VEVENT
DTSTART;VALUE=DATE:20260214
DTEND;VALUE=DATE:20260302
DTSTAMP:20260421T173815
CREATED:20251118T135807Z
LAST-MODIFIED:20251118T135807Z
UID:1599-1771027200-1772409599@ondernemersfondsbreda.nl
SUMMARY:Voorjaarsvakantie / Carnavalsvakantie
DESCRIPTION:Regio Noord: 21 februari t/m 1 maart\nRegio Midden: 14 februari t/m 22 februari\nRegio Zuid:  14 februari t/m 22 februari
URL:https://ondernemersfondsbreda.nl/kalender/voorjaarsvakantie-carnavalsvakantie-3/
CATEGORIES:Vakanties
END:VEVENT
BEGIN:VEVENT
DTSTART;VALUE=DATE:20260216
DTEND;VALUE=DATE:20260223
DTSTAMP:20260421T173815
CREATED:20251118T135807Z
LAST-MODIFIED:20251118T135807Z
UID:1600-1771200000-1771804799@ondernemersfondsbreda.nl
SUMMARY:Krokusvakantie
DESCRIPTION:
URL:https://ondernemersfondsbreda.nl/kalender/krokusvakantie-3/
CATEGORIES:België
END:VEVENT
BEGIN:VEVENT
DTSTART;VALUE=DATE:20260217
DTEND;VALUE=DATE:20260320
DTSTAMP:20260421T173815
CREATED:20251118T135808Z
LAST-MODIFIED:20251118T135808Z
UID:1602-1771286400-1773964799@ondernemersfondsbreda.nl
SUMMARY:Ramadan
DESCRIPTION:
URL:https://ondernemersfondsbreda.nl/kalender/ramadan-2/
CATEGORIES:Feest- en bijzondere dagen
END:VEVENT
BEGIN:VEVENT
DTSTART;VALUE=DATE:20260319
DTEND;VALUE=DATE:20260321
DTSTAMP:20260421T173815
CREATED:20251118T135823Z
LAST-MODIFIED:20251118T135823Z
UID:1608-1773878400-1774051199@ondernemersfondsbreda.nl
SUMMARY:Suikerfeest
DESCRIPTION:
URL:https://ondernemersfondsbreda.nl/kalender/suikerfeest-3/
CATEGORIES:Feest- en bijzondere dagen
END:VEVENT
BEGIN:VEVENT
DTSTART;VALUE=DATE:20260403
DTEND;VALUE=DATE:20260404
DTSTAMP:20260421T173815
CREATED:20251118T135808Z
LAST-MODIFIED:20251118T135808Z
UID:1603-1775174400-1775260799@ondernemersfondsbreda.nl
SUMMARY:Goede Vrijdag
DESCRIPTION:
URL:https://ondernemersfondsbreda.nl/kalender/goede-vrijdag-3/
CATEGORIES:Feest- en bijzondere dagen
END:VEVENT
BEGIN:VEVENT
DTSTART;VALUE=DATE:20260405
DTEND;VALUE=DATE:20260406
DTSTAMP:20260421T173815
CREATED:20251118T135822Z
LAST-MODIFIED:20251118T135822Z
UID:1604-1775347200-1775433599@ondernemersfondsbreda.nl
SUMMARY:1e Paasdag
DESCRIPTION:Winkels gesloten
URL:https://ondernemersfondsbreda.nl/kalender/1e-paasdag-3/
CATEGORIES:Feest- en bijzondere dagen
END:VEVENT
BEGIN:VEVENT
DTSTART;VALUE=DATE:20260406
DTEND;VALUE=DATE:20260407
DTSTAMP:20260421T173815
CREATED:20251118T135823Z
LAST-MODIFIED:20251118T135823Z
UID:1605-1775433600-1775519999@ondernemersfondsbreda.nl
SUMMARY:2e Paasdag
DESCRIPTION:Winkels open van 12:00 uur tot 17:00 uur
URL:https://ondernemersfondsbreda.nl/kalender/2e-paasdag-3/
CATEGORIES:Feest- en bijzondere dagen
END:VEVENT
BEGIN:VEVENT
DTSTART;VALUE=DATE:20260406
DTEND;VALUE=DATE:20260420
DTSTAMP:20260421T173815
CREATED:20251118T135823Z
LAST-MODIFIED:20251118T135823Z
UID:1607-1775433600-1776643199@ondernemersfondsbreda.nl
SUMMARY:Paasvakantie België
DESCRIPTION:
URL:https://ondernemersfondsbreda.nl/kalender/paasvakantie-belgie/
CATEGORIES:België,Vakanties
END:VEVENT
BEGIN:VEVENT
DTSTART;VALUE=DATE:20260425
DTEND;VALUE=DATE:20260504
DTSTAMP:20260421T173815
CREATED:20251118T135837Z
LAST-MODIFIED:20251118T135837Z
UID:1609-1777075200-1777852799@ondernemersfondsbreda.nl
SUMMARY:Meivakantie
DESCRIPTION:Alle regio’s
URL:https://ondernemersfondsbreda.nl/kalender/meivakantie-3/
CATEGORIES:Vakanties
END:VEVENT
BEGIN:VEVENT
DTSTART;VALUE=DATE:20260426
DTEND;VALUE=DATE:20260427
DTSTAMP:20260421T173815
CREATED:20251118T135838Z
LAST-MODIFIED:20251118T135838Z
UID:1611-1777161600-1777247999@ondernemersfondsbreda.nl
SUMMARY:Koningsnacht
DESCRIPTION:
URL:https://ondernemersfondsbreda.nl/kalender/koningsnacht-3/
CATEGORIES:Feest- en bijzondere dagen
END:VEVENT
BEGIN:VEVENT
DTSTART;VALUE=DATE:20260427
DTEND;VALUE=DATE:20260428
DTSTAMP:20260421T173815
CREATED:20251118T135838Z
LAST-MODIFIED:20251118T135838Z
UID:1612-1777248000-1777334399@ondernemersfondsbreda.nl
SUMMARY:Koningsdag
DESCRIPTION:Winkels open van 12:00 uur tot 17:00 uur
URL:https://ondernemersfondsbreda.nl/kalender/koningsdag-3/
CATEGORIES:Evenementen,Feest- en bijzondere dagen
END:VEVENT
BEGIN:VEVENT
DTSTART;VALUE=DATE:20260501
DTEND;VALUE=DATE:20260502
DTSTAMP:20260421T173815
CREATED:20251118T135838Z
LAST-MODIFIED:20251118T135838Z
UID:1613-1777593600-1777679999@ondernemersfondsbreda.nl
SUMMARY:Dag van de Arbeid
DESCRIPTION:Belgische feestdag
URL:https://ondernemersfondsbreda.nl/kalender/dag-van-de-arbeid-3/
CATEGORIES:België
END:VEVENT
BEGIN:VEVENT
DTSTART;VALUE=DATE:20260504
DTEND;VALUE=DATE:20260505
DTSTAMP:20260421T173815
CREATED:20251118T135901Z
LAST-MODIFIED:20251118T135901Z
UID:1614-1777852800-1777939199@ondernemersfondsbreda.nl
SUMMARY:Dodenherdenking
DESCRIPTION:Winkels verplicht sluiten om 19:00 uur
URL:https://ondernemersfondsbreda.nl/kalender/dodenherdenking-3/
CATEGORIES:Feest- en bijzondere dagen
END:VEVENT
BEGIN:VEVENT
DTSTART;VALUE=DATE:20260505
DTEND;VALUE=DATE:20260506
DTSTAMP:20260421T173815
CREATED:20251118T135901Z
LAST-MODIFIED:20251118T135901Z
UID:1615-1777939200-1778025599@ondernemersfondsbreda.nl
SUMMARY:Bevrijdingsdag
DESCRIPTION:Verplichte vrije dag in 2025
URL:https://ondernemersfondsbreda.nl/kalender/bevrijdingsdag-3/
CATEGORIES:Feest- en bijzondere dagen
END:VEVENT
BEGIN:VEVENT
DTSTART;VALUE=DATE:20260510
DTEND;VALUE=DATE:20260511
DTSTAMP:20260421T173815
CREATED:20251118T135901Z
LAST-MODIFIED:20251118T135901Z
UID:1618-1778371200-1778457599@ondernemersfondsbreda.nl
SUMMARY:Moederdag
DESCRIPTION:
URL:https://ondernemersfondsbreda.nl/kalender/moederdag-3/
CATEGORIES:Inhaakmomenten
END:VEVENT
BEGIN:VEVENT
DTSTART;VALUE=DATE:20260514
DTEND;VALUE=DATE:20260515
DTSTAMP:20260421T173815
CREATED:20251118T135901Z
LAST-MODIFIED:20251118T135901Z
UID:1616-1778716800-1778803199@ondernemersfondsbreda.nl
SUMMARY:Hemelvaartsdag
DESCRIPTION:Winkels open van 12:00 uur tot 17:00 uur
URL:https://ondernemersfondsbreda.nl/kalender/hemelvaartsdag-3/
CATEGORIES:Feest- en bijzondere dagen
END:VEVENT
BEGIN:VEVENT
DTSTART;VALUE=DATE:20260514
DTEND;VALUE=DATE:20260518
DTSTAMP:20260421T173815
CREATED:20251118T135901Z
LAST-MODIFIED:20251118T135901Z
UID:1617-1778716800-1779062399@ondernemersfondsbreda.nl
SUMMARY:Breda Jazz Festival
DESCRIPTION:
URL:https://ondernemersfondsbreda.nl/kalender/breda-jazz-festival-3/
CATEGORIES:Evenementen
END:VEVENT
BEGIN:VEVENT
DTSTART;TZID=UTC:20260522T000000
DTEND;TZID=UTC:20260522T000000
DTSTAMP:20260421T173815
CREATED:20251118T135838Z
LAST-MODIFIED:20251118T135838Z
UID:1610-1779408000-1779408000@ondernemersfondsbreda.nl
SUMMARY:Uitbetaling vakantiegeld
DESCRIPTION:Doorgaans eind mei\, uiterlijk juni (wetterlijk verplicht)
URL:https://ondernemersfondsbreda.nl/kalender/uitbetaling-vakantiegeld/
CATEGORIES:Inhaakmomenten
END:VEVENT
BEGIN:VEVENT
DTSTART;VALUE=DATE:20260524
DTEND;VALUE=DATE:20260525
DTSTAMP:20260421T173815
CREATED:20251118T135917Z
LAST-MODIFIED:20251118T135917Z
UID:1619-1779580800-1779667199@ondernemersfondsbreda.nl
SUMMARY:1e Pinksterdag
DESCRIPTION:Winkels gesloten
URL:https://ondernemersfondsbreda.nl/kalender/1e-pinksterdag-3/
CATEGORIES:Feest- en bijzondere dagen
END:VEVENT
BEGIN:VEVENT
DTSTART;VALUE=DATE:20260525
DTEND;VALUE=DATE:20260526
DTSTAMP:20260421T173815
CREATED:20251118T135917Z
LAST-MODIFIED:20251118T135917Z
UID:1620-1779667200-1779753599@ondernemersfondsbreda.nl
SUMMARY:2e Pinksterdag
DESCRIPTION:Winkels open van 12:00 uur tot 17:00 uur
URL:https://ondernemersfondsbreda.nl/kalender/2e-pinksterdag-3/
CATEGORIES:Feest- en bijzondere dagen
END:VEVENT
BEGIN:VEVENT
DTSTART;VALUE=DATE:20260525
DTEND;VALUE=DATE:20260526
DTSTAMP:20260421T173815
CREATED:20251118T135917Z
LAST-MODIFIED:20251118T135917Z
UID:1621-1779667200-1779753599@ondernemersfondsbreda.nl
SUMMARY:Nassaudag
DESCRIPTION:
URL:https://ondernemersfondsbreda.nl/kalender/nassaudag-3/
CATEGORIES:Evenementen
END:VEVENT
BEGIN:VEVENT
DTSTART;VALUE=DATE:20260525
DTEND;VALUE=DATE:20260529
DTSTAMP:20260421T173815
CREATED:20251118T135917Z
LAST-MODIFIED:20251118T135917Z
UID:1623-1779667200-1780012799@ondernemersfondsbreda.nl
SUMMARY:Offerfeest
DESCRIPTION:
URL:https://ondernemersfondsbreda.nl/kalender/offerfeest-3/
CATEGORIES:Feest- en bijzondere dagen
END:VEVENT
BEGIN:VEVENT
DTSTART;VALUE=DATE:20260621
DTEND;VALUE=DATE:20260622
DTSTAMP:20260421T173815
CREATED:20251118T135917Z
LAST-MODIFIED:20260203T102747Z
UID:1622-1782000000-1782086399@ondernemersfondsbreda.nl
SUMMARY:Vaderdag
DESCRIPTION:
URL:https://ondernemersfondsbreda.nl/kalender/vaderdag-3/
CATEGORIES:Inhaakmomenten
END:VEVENT
BEGIN:VEVENT
DTSTART;VALUE=DATE:20260701
DTEND;VALUE=DATE:20260901
DTSTAMP:20260421T173815
CREATED:20251118T135944Z
LAST-MODIFIED:20251118T135944Z
UID:1624-1782864000-1788220799@ondernemersfondsbreda.nl
SUMMARY:Zomervakantie
DESCRIPTION:
URL:https://ondernemersfondsbreda.nl/kalender/zomervakantie-5/
CATEGORIES:België,Vakanties
END:VEVENT
BEGIN:VEVENT
DTSTART;TZID=UTC:20260703T134500
DTEND;TZID=UTC:20260704T230000
DTSTAMP:20260421T173815
CREATED:20251118T135944Z
LAST-MODIFIED:20251118T135944Z
UID:1625-1783086300-1783206000@ondernemersfondsbreda.nl
SUMMARY:Breda Live
DESCRIPTION:
URL:https://ondernemersfondsbreda.nl/kalender/breda-live-3/
CATEGORIES:Evenementen
END:VEVENT
BEGIN:VEVENT
DTSTART;VALUE=DATE:20260704
DTEND;VALUE=DATE:20260824
DTSTAMP:20260421T173815
CREATED:20251118T135944Z
LAST-MODIFIED:20251118T135944Z
UID:1626-1783123200-1787529599@ondernemersfondsbreda.nl
SUMMARY:Zomervakantie
DESCRIPTION:Regio Noord: 4 juli t/m 16 augustus\nRegio Midden: 18 juli t/m 30 augustus\nRegio Zuid: 11 juli t/m 23 augustus
URL:https://ondernemersfondsbreda.nl/kalender/zomervakantie-6/
CATEGORIES:Vakanties
END:VEVENT
BEGIN:VEVENT
DTSTART;TZID=UTC:20260718T130000
DTEND;TZID=UTC:20260718T230000
DTSTAMP:20260421T173815
CREATED:20251118T135959Z
LAST-MODIFIED:20260203T102936Z
UID:1627-1784379600-1784415600@ondernemersfondsbreda.nl
SUMMARY:Breda in Concert
DESCRIPTION:
URL:https://ondernemersfondsbreda.nl/kalender/breda-in-concert-3/
CATEGORIES:Evenementen
END:VEVENT
BEGIN:VEVENT
DTSTART;VALUE=DATE:20260721
DTEND;VALUE=DATE:20260722
DTSTAMP:20260421T173815
CREATED:20251118T140019Z
LAST-MODIFIED:20251118T140019Z
UID:1628-1784592000-1784678399@ondernemersfondsbreda.nl
SUMMARY:Nationale Feestdag
DESCRIPTION:Belgische feestdag\, winkels in België verplicht gesloten
URL:https://ondernemersfondsbreda.nl/kalender/nationale-feestdag-3/
CATEGORIES:België
END:VEVENT
BEGIN:VEVENT
DTSTART;VALUE=DATE:20260725
DTEND;VALUE=DATE:20260816
DTSTAMP:20260421T173815
CREATED:20251118T140019Z
LAST-MODIFIED:20251118T140019Z
UID:1629-1784937600-1786838399@ondernemersfondsbreda.nl
SUMMARY:Bouwvak (Regio Zuid)
DESCRIPTION:
URL:https://ondernemersfondsbreda.nl/kalender/bouwvak-regio-zuid-2/
CATEGORIES:Vakanties
END:VEVENT
BEGIN:VEVENT
DTSTART;TZID=UTC:20260804T190000
DTEND;TZID=UTC:20260804T230000
DTSTAMP:20260421T173815
CREATED:20241119T100255Z
LAST-MODIFIED:20260203T102039Z
UID:1458-1785870000-1785884400@ondernemersfondsbreda.nl
SUMMARY:Parkies (1 van 4)
DESCRIPTION:
URL:https://ondernemersfondsbreda.nl/kalender/parkies-1-van-6/
LOCATION:Park Valkenberg\, J.F. Kennedylaan\, Breda\, Noord-Brabant\, 4811XJ\, Nederland
CATEGORIES:Evenementen
END:VEVENT
END:VCALENDAR