BEGIN:VCALENDAR
VERSION:2.0
PRODID:-//Stichting Ondernemersfonds Breda - ECPv6.15.13.1//NONSGML v1.0//EN
CALSCALE:GREGORIAN
METHOD:PUBLISH
X-ORIGINAL-URL:https://ondernemersfondsbreda.nl
X-WR-CALDESC:Evenementen voor Stichting Ondernemersfonds Breda
REFRESH-INTERVAL;VALUE=DURATION:PT1H
X-Robots-Tag:noindex
X-PUBLISHED-TTL:PT1H
BEGIN:VTIMEZONE
TZID:UTC
BEGIN:STANDARD
TZOFFSETFROM:+0000
TZOFFSETTO:+0000
TZNAME:UTC
DTSTART:20250101T000000
END:STANDARD
END:VTIMEZONE
BEGIN:VEVENT
DTSTART;VALUE=DATE:20261211
DTEND;VALUE=DATE:20270104
DTSTAMP:20260422T072229
CREATED:20251118T135805Z
LAST-MODIFIED:20260203T101802Z
UID:1594-1796947200-1799020799@ondernemersfondsbreda.nl
SUMMARY:Breda Straalt
DESCRIPTION:
URL:https://ondernemersfondsbreda.nl/kalender/breda-straalt-4/
CATEGORIES:Evenementen
END:VEVENT
BEGIN:VEVENT
DTSTART;VALUE=DATE:20261219
DTEND;VALUE=DATE:20270104
DTSTAMP:20260422T072229
CREATED:20251118T140437Z
LAST-MODIFIED:20251118T140437Z
UID:1644-1797638400-1799020799@ondernemersfondsbreda.nl
SUMMARY:Kerstvakantie
DESCRIPTION:Alle regio’s
URL:https://ondernemersfondsbreda.nl/kalender/kerstvakantie-5/
CATEGORIES:Vakanties
END:VEVENT
BEGIN:VEVENT
DTSTART;VALUE=DATE:20261231
DTEND;VALUE=DATE:20270101
DTSTAMP:20260422T072229
CREATED:20251118T140638Z
LAST-MODIFIED:20251118T140638Z
UID:1647-1798675200-1798761599@ondernemersfondsbreda.nl
SUMMARY:Oudjaarsdag
DESCRIPTION:Winkels open tot 17:00 uur
URL:https://ondernemersfondsbreda.nl/kalender/oudjaarsdag-4/
CATEGORIES:België,Feest- en bijzondere dagen
END:VEVENT
END:VCALENDAR