BEGIN:VCALENDAR
VERSION:2.0
PRODID:-//Stichting Ondernemersfonds Breda - ECPv6.15.13.1//NONSGML v1.0//EN
CALSCALE:GREGORIAN
METHOD:PUBLISH
X-WR-CALNAME:Stichting Ondernemersfonds Breda
X-ORIGINAL-URL:https://ondernemersfondsbreda.nl
X-WR-CALDESC:Evenementen voor Stichting Ondernemersfonds Breda
REFRESH-INTERVAL;VALUE=DURATION:PT1H
X-Robots-Tag:noindex
X-PUBLISHED-TTL:PT1H
BEGIN:VTIMEZONE
TZID:UTC
BEGIN:STANDARD
TZOFFSETFROM:+0000
TZOFFSETTO:+0000
TZNAME:UTC
DTSTART:20220101T000000
END:STANDARD
END:VTIMEZONE
BEGIN:VEVENT
DTSTART;VALUE=DATE:20240210
DTEND;VALUE=DATE:20240219
DTSTAMP:20260422T225757
CREATED:20230517T095409Z
LAST-MODIFIED:20231207T104804Z
UID:928-1707523200-1708300799@ondernemersfondsbreda.nl
SUMMARY:Voorjaarsvakantie / Carnavalsvakantie
DESCRIPTION:Zuid-Nederland
URL:https://ondernemersfondsbreda.nl/kalender/voorjaarsvakantie-carnavalsvakantie/
CATEGORIES:Vakanties
END:VEVENT
BEGIN:VEVENT
DTSTART;VALUE=DATE:20240209
DTEND;VALUE=DATE:20240214
DTSTAMP:20260422T225757
CREATED:20230517T085723Z
LAST-MODIFIED:20231207T104724Z
UID:869-1707436800-1707868799@ondernemersfondsbreda.nl
SUMMARY:Carnaval
DESCRIPTION:
URL:https://ondernemersfondsbreda.nl/kalender/carnaval/
CATEGORIES:Evenementen,Feest- en bijzondere dagen
END:VEVENT
BEGIN:VEVENT
DTSTART;VALUE=DATE:20240121
DTEND;VALUE=DATE:20240122
DTSTAMP:20260422T225757
CREATED:20231207T114011Z
LAST-MODIFIED:20231207T114011Z
UID:1226-1705795200-1705881599@ondernemersfondsbreda.nl
SUMMARY:Bredase Klûntocht
DESCRIPTION:
URL:https://ondernemersfondsbreda.nl/kalender/bredase-kluntocht/
CATEGORIES:Evenementen
END:VEVENT
BEGIN:VEVENT
DTSTART;VALUE=DATE:20240101
DTEND;VALUE=DATE:20240102
DTSTAMP:20260422T225757
CREATED:20230117T000039Z
LAST-MODIFIED:20231207T104616Z
UID:862-1704067200-1704153599@ondernemersfondsbreda.nl
SUMMARY:Nieuwjaarsdag
DESCRIPTION:Winkels gesloten
URL:https://ondernemersfondsbreda.nl/kalender/nieuwjaarsdag/
CATEGORIES:Feest- en bijzondere dagen
END:VEVENT
BEGIN:VEVENT
DTSTART;VALUE=DATE:20231231
DTEND;VALUE=DATE:20240101
DTSTAMP:20260422T225757
CREATED:20231207T113816Z
LAST-MODIFIED:20231207T113816Z
UID:1216-1703980800-1704067199@ondernemersfondsbreda.nl
SUMMARY:Oudjaarsdag
DESCRIPTION:Winkels open tot 17
URL:https://ondernemersfondsbreda.nl/kalender/oudjaarsdag-2/
CATEGORIES:Feest- en bijzondere dagen
END:VEVENT
BEGIN:VEVENT
DTSTART;VALUE=DATE:20231226
DTEND;VALUE=DATE:20231227
DTSTAMP:20260422T225757
CREATED:20231207T113826Z
LAST-MODIFIED:20231207T113826Z
UID:1217-1703548800-1703635199@ondernemersfondsbreda.nl
SUMMARY:2e Kerstdag
DESCRIPTION:Winkels open van 12 tot 17
URL:https://ondernemersfondsbreda.nl/kalender/2e-kerstdag-2/
CATEGORIES:Feest- en bijzondere dagen
END:VEVENT
BEGIN:VEVENT
DTSTART;VALUE=DATE:20231225
DTEND;VALUE=DATE:20231226
DTSTAMP:20260422T225757
CREATED:20231207T113834Z
LAST-MODIFIED:20231207T113834Z
UID:1218-1703462400-1703548799@ondernemersfondsbreda.nl
SUMMARY:1e Kerstdag
DESCRIPTION:Winkels gesloten
URL:https://ondernemersfondsbreda.nl/kalender/1e-kerstdag-2/
CATEGORIES:Feest- en bijzondere dagen
END:VEVENT
BEGIN:VEVENT
DTSTART;TZID=UTC:20231224T080000
DTEND;TZID=UTC:20231224T170000
DTSTAMP:20260422T225757
CREATED:20231207T113845Z
LAST-MODIFIED:20231207T113845Z
UID:1219-1703404800-1703437200@ondernemersfondsbreda.nl
SUMMARY:Kerstavond
DESCRIPTION:Winkels geopend tot 17
URL:https://ondernemersfondsbreda.nl/kalender/kerstavond-2/
CATEGORIES:Feest- en bijzondere dagen
END:VEVENT
BEGIN:VEVENT
DTSTART;VALUE=DATE:20231223
DTEND;VALUE=DATE:20240108
DTSTAMP:20260422T225757
CREATED:20231207T113900Z
LAST-MODIFIED:20231207T113900Z
UID:1220-1703289600-1704671999@ondernemersfondsbreda.nl
SUMMARY:Kerstvakantie
DESCRIPTION:Alle regio’s
URL:https://ondernemersfondsbreda.nl/kalender/kerstvakantie-2/
CATEGORIES:België,Vakanties
END:VEVENT
BEGIN:VEVENT
DTSTART;VALUE=DATE:20231201
DTEND;VALUE=DATE:20240108
DTSTAMP:20260422T225757
CREATED:20231127T131443Z
LAST-MODIFIED:20231127T131443Z
UID:1198-1701388800-1704671999@ondernemersfondsbreda.nl
SUMMARY:Breda Straalt
DESCRIPTION:
URL:https://ondernemersfondsbreda.nl/kalender/breda-straalt/
CATEGORIES:Evenementen
END:VEVENT
BEGIN:VEVENT
DTSTART;VALUE=DATE:20231118
DTEND;VALUE=DATE:20231119
DTSTAMP:20260422T225757
CREATED:20230517T091157Z
LAST-MODIFIED:20230517T110549Z
UID:914-1700265600-1700351999@ondernemersfondsbreda.nl
SUMMARY:Intocht Sinterklaas
DESCRIPTION:
URL:https://ondernemersfondsbreda.nl/kalender/intocht-sinterklaas/
CATEGORIES:Evenementen
END:VEVENT
BEGIN:VEVENT
DTSTART;VALUE=DATE:20230916
DTEND;VALUE=DATE:20230917
DTSTAMP:20260422T225757
CREATED:20230517T110519Z
LAST-MODIFIED:20230517T110519Z
UID:987-1694822400-1694908799@ondernemersfondsbreda.nl
SUMMARY:Lichtsloepenparade
DESCRIPTION:Haven
URL:https://ondernemersfondsbreda.nl/kalender/lichtsloepenparade/
CATEGORIES:Evenementen
END:VEVENT
BEGIN:VEVENT
DTSTART;VALUE=DATE:20230914
DTEND;VALUE=DATE:20230918
DTSTAMP:20260422T225757
CREATED:20230517T110445Z
LAST-MODIFIED:20230517T110445Z
UID:985-1694649600-1694995199@ondernemersfondsbreda.nl
SUMMARY:Breda Barst
DESCRIPTION:Park Valkenberg
URL:https://ondernemersfondsbreda.nl/kalender/breda-barst/
CATEGORIES:Evenementen
END:VEVENT
BEGIN:VEVENT
DTSTART;VALUE=DATE:20230903
DTEND;VALUE=DATE:20230904
DTSTAMP:20260422T225757
CREATED:20230517T110113Z
LAST-MODIFIED:20230517T110113Z
UID:979-1693699200-1693785599@ondernemersfondsbreda.nl
SUMMARY:Singeltocht
DESCRIPTION:Park Valkenberg
URL:https://ondernemersfondsbreda.nl/kalender/singeltocht/
CATEGORIES:Evenementen
END:VEVENT
BEGIN:VEVENT
DTSTART;VALUE=DATE:20230815
DTEND;VALUE=DATE:20230816
DTSTAMP:20260422T225757
CREATED:20230517T105949Z
LAST-MODIFIED:20230517T105949Z
UID:971-1692057600-1692143999@ondernemersfondsbreda.nl
SUMMARY:Brand Parkies
DESCRIPTION:Park Valkenberg
URL:https://ondernemersfondsbreda.nl/kalender/brand-parkies-6/
CATEGORIES:Evenementen
END:VEVENT
BEGIN:VEVENT
DTSTART;VALUE=DATE:20230808
DTEND;VALUE=DATE:20230809
DTSTAMP:20260422T225757
CREATED:20230517T105945Z
LAST-MODIFIED:20230517T105945Z
UID:972-1691452800-1691539199@ondernemersfondsbreda.nl
SUMMARY:Brand Parkies
DESCRIPTION:Park Valkenberg
URL:https://ondernemersfondsbreda.nl/kalender/brand-parkies-5/
CATEGORIES:Evenementen
END:VEVENT
BEGIN:VEVENT
DTSTART;VALUE=DATE:20230801
DTEND;VALUE=DATE:20230802
DTSTAMP:20260422T225757
CREATED:20230517T105907Z
LAST-MODIFIED:20230517T105907Z
UID:965-1690848000-1690934399@ondernemersfondsbreda.nl
SUMMARY:Brand Parkies
DESCRIPTION:Park Valkenberg
URL:https://ondernemersfondsbreda.nl/kalender/brand-parkies-4/
CATEGORIES:Evenementen
END:VEVENT
BEGIN:VEVENT
DTSTART;VALUE=DATE:20230725
DTEND;VALUE=DATE:20230726
DTSTAMP:20260422T225757
CREATED:20230517T105852Z
LAST-MODIFIED:20230517T105852Z
UID:966-1690243200-1690329599@ondernemersfondsbreda.nl
SUMMARY:Brand Parkies
DESCRIPTION:Park Valkenberg
URL:https://ondernemersfondsbreda.nl/kalender/brand-parkies-3/
CATEGORIES:Evenementen
END:VEVENT
BEGIN:VEVENT
DTSTART;VALUE=DATE:20230718
DTEND;VALUE=DATE:20230719
DTSTAMP:20260422T225757
CREATED:20230517T105848Z
LAST-MODIFIED:20230517T105848Z
UID:967-1689638400-1689724799@ondernemersfondsbreda.nl
SUMMARY:Brand Parkies
DESCRIPTION:Park Valkenberg
URL:https://ondernemersfondsbreda.nl/kalender/brand-parkies-2/
CATEGORIES:Evenementen
END:VEVENT
BEGIN:VEVENT
DTSTART;VALUE=DATE:20230711
DTEND;VALUE=DATE:20230712
DTSTAMP:20260422T225757
CREATED:20230517T105754Z
LAST-MODIFIED:20230517T105754Z
UID:961-1689033600-1689119999@ondernemersfondsbreda.nl
SUMMARY:Brand Parkies
DESCRIPTION:Park Valkenberg
URL:https://ondernemersfondsbreda.nl/kalender/brand-parkies/
CATEGORIES:Evenementen
END:VEVENT
BEGIN:VEVENT
DTSTART;VALUE=DATE:20230623
DTEND;VALUE=DATE:20230626
DTSTAMP:20260422T225757
CREATED:20230517T105549Z
LAST-MODIFIED:20231207T111400Z
UID:957-1687478400-1687737599@ondernemersfondsbreda.nl
SUMMARY:BRIK Festival
DESCRIPTION:Grote Kerk\, Chassé Theater & Theater de Stilte
URL:https://ondernemersfondsbreda.nl/kalender/brik-festival/
CATEGORIES:Evenementen
END:VEVENT
END:VCALENDAR