BEGIN:VCALENDAR
VERSION:2.0
PRODID:-//Stichting Ondernemersfonds Breda - ECPv6.15.13.1//NONSGML v1.0//EN
CALSCALE:GREGORIAN
METHOD:PUBLISH
X-ORIGINAL-URL:https://ondernemersfondsbreda.nl
X-WR-CALDESC:Evenementen voor Stichting Ondernemersfonds Breda
REFRESH-INTERVAL;VALUE=DURATION:PT1H
X-Robots-Tag:noindex
X-PUBLISHED-TTL:PT1H
BEGIN:VTIMEZONE
TZID:UTC
BEGIN:STANDARD
TZOFFSETFROM:+0000
TZOFFSETTO:+0000
TZNAME:UTC
DTSTART:20250101T000000
END:STANDARD
END:VTIMEZONE
BEGIN:VEVENT
DTSTART;VALUE=DATE:20261031
DTEND;VALUE=DATE:20261101
DTSTAMP:20260422T012154
CREATED:20251118T140236Z
LAST-MODIFIED:20251118T140236Z
UID:1639-1793404800-1793491199@ondernemersfondsbreda.nl
SUMMARY:Halloween
DESCRIPTION:
URL:https://ondernemersfondsbreda.nl/kalender/halloween-3/
CATEGORIES:Inhaakmomenten
END:VEVENT
BEGIN:VEVENT
DTSTART;VALUE=DATE:20261101
DTEND;VALUE=DATE:20261102
DTSTAMP:20260422T012154
CREATED:20251118T140236Z
LAST-MODIFIED:20251118T140236Z
UID:1640-1793491200-1793577599@ondernemersfondsbreda.nl
SUMMARY:Allerheiligen
DESCRIPTION:Belgische feestdag\, meeste winkels in België gesloten
URL:https://ondernemersfondsbreda.nl/kalender/allerheiligen-3/
CATEGORIES:België
END:VEVENT
BEGIN:VEVENT
DTSTART;VALUE=DATE:20261102
DTEND;VALUE=DATE:20261109
DTSTAMP:20260422T012154
CREATED:20251118T140236Z
LAST-MODIFIED:20251118T140236Z
UID:1638-1793577600-1794182399@ondernemersfondsbreda.nl
SUMMARY:Herfstvakantie
DESCRIPTION:
URL:https://ondernemersfondsbreda.nl/kalender/herfstvakantie-6/
CATEGORIES:België,Vakanties
END:VEVENT
BEGIN:VEVENT
DTSTART;VALUE=DATE:20261111
DTEND;VALUE=DATE:20261112
DTSTAMP:20260422T012154
CREATED:20251118T140437Z
LAST-MODIFIED:20251118T140437Z
UID:1641-1794355200-1794441599@ondernemersfondsbreda.nl
SUMMARY:Sint-Maarten
DESCRIPTION:
URL:https://ondernemersfondsbreda.nl/kalender/sint-maarten-3/
CATEGORIES:Feest- en bijzondere dagen
END:VEVENT
BEGIN:VEVENT
DTSTART;VALUE=DATE:20261111
DTEND;VALUE=DATE:20261112
DTSTAMP:20260422T012154
CREATED:20251118T140437Z
LAST-MODIFIED:20251118T140437Z
UID:1642-1794355200-1794441599@ondernemersfondsbreda.nl
SUMMARY:Wapenstilstand
DESCRIPTION:Belgische feestdag\, meeste winkels in België gesloten
URL:https://ondernemersfondsbreda.nl/kalender/wapenstilstand-3/
CATEGORIES:België
END:VEVENT
BEGIN:VEVENT
DTSTART;VALUE=DATE:20261114
DTEND;VALUE=DATE:20261115
DTSTAMP:20260422T012154
CREATED:20260203T103658Z
LAST-MODIFIED:20260203T103658Z
UID:1667-1794614400-1794700799@ondernemersfondsbreda.nl
SUMMARY:Intocht Sinterklaas
DESCRIPTION:
URL:https://ondernemersfondsbreda.nl/kalender/intocht-sinterklaas-2/
CATEGORIES:Evenementen
END:VEVENT
BEGIN:VEVENT
DTSTART;VALUE=DATE:20261127
DTEND;VALUE=DATE:20261128
DTSTAMP:20260422T012154
CREATED:20251118T140437Z
LAST-MODIFIED:20251118T140437Z
UID:1643-1795737600-1795823999@ondernemersfondsbreda.nl
SUMMARY:Black Friday
DESCRIPTION:Géén extra Koopavond
URL:https://ondernemersfondsbreda.nl/kalender/black-friday-3/
CATEGORIES:Inhaakmomenten
END:VEVENT
BEGIN:VEVENT
DTSTART;VALUE=DATE:20261211
DTEND;VALUE=DATE:20270104
DTSTAMP:20260422T012154
CREATED:20251118T135805Z
LAST-MODIFIED:20260203T101802Z
UID:1594-1796947200-1799020799@ondernemersfondsbreda.nl
SUMMARY:Breda Straalt
DESCRIPTION:
URL:https://ondernemersfondsbreda.nl/kalender/breda-straalt-4/
CATEGORIES:Evenementen
END:VEVENT
BEGIN:VEVENT
DTSTART;VALUE=DATE:20261219
DTEND;VALUE=DATE:20270104
DTSTAMP:20260422T012154
CREATED:20251118T140437Z
LAST-MODIFIED:20251118T140437Z
UID:1644-1797638400-1799020799@ondernemersfondsbreda.nl
SUMMARY:Kerstvakantie
DESCRIPTION:Alle regio’s
URL:https://ondernemersfondsbreda.nl/kalender/kerstvakantie-5/
CATEGORIES:Vakanties
END:VEVENT
BEGIN:VEVENT
DTSTART;VALUE=DATE:20261225
DTEND;VALUE=DATE:20261226
DTSTAMP:20260422T012154
CREATED:20251118T140437Z
LAST-MODIFIED:20251118T140437Z
UID:1645-1798156800-1798243199@ondernemersfondsbreda.nl
SUMMARY:1e Kerstdag
DESCRIPTION:Winkels gesloten
URL:https://ondernemersfondsbreda.nl/kalender/1e-kerstdag-4/
CATEGORIES:België,Feest- en bijzondere dagen
END:VEVENT
BEGIN:VEVENT
DTSTART;VALUE=DATE:20261226
DTEND;VALUE=DATE:20261227
DTSTAMP:20260422T012154
CREATED:20251118T140637Z
LAST-MODIFIED:20251118T140637Z
UID:1646-1798243200-1798329599@ondernemersfondsbreda.nl
SUMMARY:2e Kerstdag
DESCRIPTION:Winkels open van 12:00 uur tot 17:00 uur
URL:https://ondernemersfondsbreda.nl/kalender/2e-kerstdag-4/
CATEGORIES:Feest- en bijzondere dagen
END:VEVENT
BEGIN:VEVENT
DTSTART;VALUE=DATE:20261231
DTEND;VALUE=DATE:20270101
DTSTAMP:20260422T012154
CREATED:20251118T140638Z
LAST-MODIFIED:20251118T140638Z
UID:1647-1798675200-1798761599@ondernemersfondsbreda.nl
SUMMARY:Oudjaarsdag
DESCRIPTION:Winkels open tot 17:00 uur
URL:https://ondernemersfondsbreda.nl/kalender/oudjaarsdag-4/
CATEGORIES:België,Feest- en bijzondere dagen
END:VEVENT
END:VCALENDAR