BEGIN:VCALENDAR
VERSION:2.0
PRODID:-//Stichting Ondernemersfonds Breda - ECPv6.15.13.1//NONSGML v1.0//EN
CALSCALE:GREGORIAN
METHOD:PUBLISH
X-WR-CALNAME:Stichting Ondernemersfonds Breda
X-ORIGINAL-URL:https://ondernemersfondsbreda.nl
X-WR-CALDESC:Evenementen voor Stichting Ondernemersfonds Breda
REFRESH-INTERVAL;VALUE=DURATION:PT1H
X-Robots-Tag:noindex
X-PUBLISHED-TTL:PT1H
BEGIN:VTIMEZONE
TZID:UTC
BEGIN:STANDARD
TZOFFSETFROM:+0000
TZOFFSETTO:+0000
TZNAME:UTC
DTSTART:20240101T000000
END:STANDARD
END:VTIMEZONE
BEGIN:VEVENT
DTSTART;VALUE=DATE:20251011
DTEND;VALUE=DATE:20251020
DTSTAMP:20260422T222100
CREATED:20241119T100340Z
LAST-MODIFIED:20241119T100340Z
UID:1470-1760140800-1760918399@ondernemersfondsbreda.nl
SUMMARY:Herfstvakantie
DESCRIPTION:Regio Noord: 18 oktober t/m 26 oktoberRegio Midden: 18 oktober t/m 26 oktober\nRegio Zuid: 11 oktober t/m 19 oktober
URL:https://ondernemersfondsbreda.nl/kalender/herfstvakantie-3/
LOCATION:Noord-Brabant
CATEGORIES:Vakanties
END:VEVENT
BEGIN:VEVENT
DTSTART;VALUE=DATE:20251026
DTEND;VALUE=DATE:20251103
DTSTAMP:20260422T222100
CREATED:20241119T100340Z
LAST-MODIFIED:20241119T100340Z
UID:1472-1761436800-1762127999@ondernemersfondsbreda.nl
SUMMARY:Herfstvakantie
DESCRIPTION:
URL:https://ondernemersfondsbreda.nl/kalender/herfstvakantie-4/
LOCATION:Noord-Brabant
CATEGORIES:België
END:VEVENT
BEGIN:VEVENT
DTSTART;VALUE=DATE:20251031
DTEND;VALUE=DATE:20251101
DTSTAMP:20260422T222100
CREATED:20241119T100341Z
LAST-MODIFIED:20241119T100341Z
UID:1473-1761868800-1761955199@ondernemersfondsbreda.nl
SUMMARY:Halloween
DESCRIPTION:
URL:https://ondernemersfondsbreda.nl/kalender/halloween-2/
LOCATION:Noord-Brabant
CATEGORIES:Inhaakmomenten
END:VEVENT
BEGIN:VEVENT
DTSTART;VALUE=DATE:20251101
DTEND;VALUE=DATE:20251102
DTSTAMP:20260422T222100
CREATED:20241119T100355Z
LAST-MODIFIED:20241119T100355Z
UID:1474-1761955200-1762041599@ondernemersfondsbreda.nl
SUMMARY:Allerheiligen
DESCRIPTION:Belgische feestdag\, meeste winkels in België gesloten
URL:https://ondernemersfondsbreda.nl/kalender/allerheiligen-2/
LOCATION:Noord-Brabant
CATEGORIES:België
END:VEVENT
BEGIN:VEVENT
DTSTART;VALUE=DATE:20251111
DTEND;VALUE=DATE:20251112
DTSTAMP:20260422T222100
CREATED:20241119T100355Z
LAST-MODIFIED:20241119T102351Z
UID:1475-1762819200-1762905599@ondernemersfondsbreda.nl
SUMMARY:Elluf Elluf in ut Kielegat
DESCRIPTION:
URL:https://ondernemersfondsbreda.nl/kalender/elluf-elluf-in-ut-kielegat/
LOCATION:Noord-Brabant
CATEGORIES:Evenementen
END:VEVENT
BEGIN:VEVENT
DTSTART;VALUE=DATE:20251111
DTEND;VALUE=DATE:20251112
DTSTAMP:20260422T222100
CREATED:20241119T100355Z
LAST-MODIFIED:20241119T100355Z
UID:1476-1762819200-1762905599@ondernemersfondsbreda.nl
SUMMARY:Sint-Maarten
DESCRIPTION:
URL:https://ondernemersfondsbreda.nl/kalender/sint-maarten-2/
LOCATION:Noord-Brabant
CATEGORIES:Feest- en bijzondere dagen
END:VEVENT
BEGIN:VEVENT
DTSTART;VALUE=DATE:20251111
DTEND;VALUE=DATE:20251112
DTSTAMP:20260422T222100
CREATED:20241119T100356Z
LAST-MODIFIED:20241119T100356Z
UID:1477-1762819200-1762905599@ondernemersfondsbreda.nl
SUMMARY:Wapenstilstand
DESCRIPTION:Belgische feestdag\, meeste winkels in België gesloten
URL:https://ondernemersfondsbreda.nl/kalender/wapenstilstand-2/
LOCATION:Noord-Brabant
CATEGORIES:België
END:VEVENT
BEGIN:VEVENT
DTSTART;VALUE=DATE:20251128
DTEND;VALUE=DATE:20251129
DTSTAMP:20260422T222100
CREATED:20241119T100356Z
LAST-MODIFIED:20241119T100356Z
UID:1478-1764288000-1764374399@ondernemersfondsbreda.nl
SUMMARY:Black Friday
DESCRIPTION:Géén extra Koopavond
URL:https://ondernemersfondsbreda.nl/kalender/black-friday-2/
LOCATION:Noord-Brabant
CATEGORIES:Inhaakmomenten
END:VEVENT
BEGIN:VEVENT
DTSTART;TZID=UTC:20251212T000000
DTEND;TZID=UTC:20260104T000000
DTSTAMP:20260422T222100
CREATED:20241119T100411Z
LAST-MODIFIED:20241119T100411Z
UID:1483-1765497600-1767484800@ondernemersfondsbreda.nl
SUMMARY:Breda Straalt
DESCRIPTION:
URL:https://ondernemersfondsbreda.nl/kalender/breda-straalt-3/
LOCATION:Noord-Brabant
CATEGORIES:Evenementen
END:VEVENT
BEGIN:VEVENT
DTSTART;VALUE=DATE:20251220
DTEND;VALUE=DATE:20260105
DTSTAMP:20260422T222100
CREATED:20241119T100410Z
LAST-MODIFIED:20241119T100410Z
UID:1479-1766188800-1767571199@ondernemersfondsbreda.nl
SUMMARY:Kerstvakantie
DESCRIPTION:Alle regio’s
URL:https://ondernemersfondsbreda.nl/kalender/kerstvakantie-3/
LOCATION:Noord-Brabant
CATEGORIES:Vakanties
END:VEVENT
BEGIN:VEVENT
DTSTART;VALUE=DATE:20251225
DTEND;VALUE=DATE:20251226
DTSTAMP:20260422T222100
CREATED:20241119T100410Z
LAST-MODIFIED:20241119T100410Z
UID:1480-1766620800-1766707199@ondernemersfondsbreda.nl
SUMMARY:1e Kerstdag
DESCRIPTION:Winkels gesloten
URL:https://ondernemersfondsbreda.nl/kalender/1e-kerstdag-3/
LOCATION:Noord-Brabant
CATEGORIES:België,Feest- en bijzondere dagen
END:VEVENT
BEGIN:VEVENT
DTSTART;VALUE=DATE:20251226
DTEND;VALUE=DATE:20251227
DTSTAMP:20260422T222100
CREATED:20241119T100410Z
LAST-MODIFIED:20241119T100410Z
UID:1481-1766707200-1766793599@ondernemersfondsbreda.nl
SUMMARY:2e Kerstdag
DESCRIPTION:Winkels open van 12:00 uur tot 17:00 uur
URL:https://ondernemersfondsbreda.nl/kalender/2e-kerstdag-3/
LOCATION:Noord-Brabant
CATEGORIES:Feest- en bijzondere dagen
END:VEVENT
BEGIN:VEVENT
DTSTART;VALUE=DATE:20251229
DTEND;VALUE=DATE:20260105
DTSTAMP:20260422T222100
CREATED:20251118T135805Z
LAST-MODIFIED:20251118T135805Z
UID:1595-1766966400-1767571199@ondernemersfondsbreda.nl
SUMMARY:Kerstvakantie
DESCRIPTION:Alle regio’s
URL:https://ondernemersfondsbreda.nl/kalender/kerstvakantie-4/
LOCATION:Noord-Brabant
CATEGORIES:België,Vakanties
END:VEVENT
BEGIN:VEVENT
DTSTART;VALUE=DATE:20251231
DTEND;VALUE=DATE:20260101
DTSTAMP:20260422T222100
CREATED:20241119T100410Z
LAST-MODIFIED:20241119T100410Z
UID:1482-1767139200-1767225599@ondernemersfondsbreda.nl
SUMMARY:Oudjaarsdag
DESCRIPTION:Winkels open tot 17:00 uur
URL:https://ondernemersfondsbreda.nl/kalender/oudjaarsdag-3/
LOCATION:Noord-Brabant
CATEGORIES:België,Feest- en bijzondere dagen
END:VEVENT
BEGIN:VEVENT
DTSTART;VALUE=DATE:20260101
DTEND;VALUE=DATE:20260102
DTSTAMP:20260422T222100
CREATED:20251118T135805Z
LAST-MODIFIED:20251118T135805Z
UID:1596-1767225600-1767311999@ondernemersfondsbreda.nl
SUMMARY:Nieuwjaarsdag
DESCRIPTION:Winkels gesloten
URL:https://ondernemersfondsbreda.nl/kalender/nieuwjaarsdag-3/
LOCATION:Noord-Brabant
CATEGORIES:Feest- en bijzondere dagen
END:VEVENT
BEGIN:VEVENT
DTSTART;TZID=UTC:20260125T133000
DTEND;TZID=UTC:20260125T180000
DTSTAMP:20260422T222100
CREATED:20251118T135806Z
LAST-MODIFIED:20251118T135806Z
UID:1597-1769347800-1769364000@ondernemersfondsbreda.nl
SUMMARY:Bredase Klûntocht
DESCRIPTION:
URL:https://ondernemersfondsbreda.nl/kalender/bredase-kluntocht-3/
LOCATION:Noord-Brabant
CATEGORIES:Evenementen
END:VEVENT
BEGIN:VEVENT
DTSTART;VALUE=DATE:20260214
DTEND;VALUE=DATE:20260215
DTSTAMP:20260422T222100
CREATED:20251118T135807Z
LAST-MODIFIED:20251118T135807Z
UID:1601-1771027200-1771113599@ondernemersfondsbreda.nl
SUMMARY:Valentijnsdag
DESCRIPTION:
URL:https://ondernemersfondsbreda.nl/kalender/valentijnsdag-3/
LOCATION:Noord-Brabant
CATEGORIES:Inhaakmomenten
END:VEVENT
BEGIN:VEVENT
DTSTART;VALUE=DATE:20260214
DTEND;VALUE=DATE:20260218
DTSTAMP:20260422T222100
CREATED:20251118T135806Z
LAST-MODIFIED:20251118T135806Z
UID:1598-1771027200-1771372799@ondernemersfondsbreda.nl
SUMMARY:Carnaval in ut Kielegat
DESCRIPTION:
URL:https://ondernemersfondsbreda.nl/kalender/carnaval-in-ut-kielegat-2/
LOCATION:Noord-Brabant
CATEGORIES:Evenementen
END:VEVENT
BEGIN:VEVENT
DTSTART;VALUE=DATE:20260214
DTEND;VALUE=DATE:20260302
DTSTAMP:20260422T222100
CREATED:20251118T135807Z
LAST-MODIFIED:20251118T135807Z
UID:1599-1771027200-1772409599@ondernemersfondsbreda.nl
SUMMARY:Voorjaarsvakantie / Carnavalsvakantie
DESCRIPTION:Regio Noord: 21 februari t/m 1 maart\nRegio Midden: 14 februari t/m 22 februari\nRegio Zuid:  14 februari t/m 22 februari
URL:https://ondernemersfondsbreda.nl/kalender/voorjaarsvakantie-carnavalsvakantie-3/
LOCATION:Noord-Brabant
CATEGORIES:Vakanties
END:VEVENT
BEGIN:VEVENT
DTSTART;VALUE=DATE:20260216
DTEND;VALUE=DATE:20260223
DTSTAMP:20260422T222100
CREATED:20251118T135807Z
LAST-MODIFIED:20251118T135807Z
UID:1600-1771200000-1771804799@ondernemersfondsbreda.nl
SUMMARY:Krokusvakantie
DESCRIPTION:
URL:https://ondernemersfondsbreda.nl/kalender/krokusvakantie-3/
LOCATION:Noord-Brabant
CATEGORIES:België
END:VEVENT
BEGIN:VEVENT
DTSTART;VALUE=DATE:20260217
DTEND;VALUE=DATE:20260320
DTSTAMP:20260422T222100
CREATED:20251118T135808Z
LAST-MODIFIED:20251118T135808Z
UID:1602-1771286400-1773964799@ondernemersfondsbreda.nl
SUMMARY:Ramadan
DESCRIPTION:
URL:https://ondernemersfondsbreda.nl/kalender/ramadan-2/
LOCATION:Noord-Brabant
CATEGORIES:Feest- en bijzondere dagen
END:VEVENT
BEGIN:VEVENT
DTSTART;VALUE=DATE:20260319
DTEND;VALUE=DATE:20260321
DTSTAMP:20260422T222100
CREATED:20251118T135823Z
LAST-MODIFIED:20251118T135823Z
UID:1608-1773878400-1774051199@ondernemersfondsbreda.nl
SUMMARY:Suikerfeest
DESCRIPTION:
URL:https://ondernemersfondsbreda.nl/kalender/suikerfeest-3/
LOCATION:Noord-Brabant
CATEGORIES:Feest- en bijzondere dagen
END:VEVENT
BEGIN:VEVENT
DTSTART;VALUE=DATE:20260403
DTEND;VALUE=DATE:20260404
DTSTAMP:20260422T222100
CREATED:20251118T135808Z
LAST-MODIFIED:20251118T135808Z
UID:1603-1775174400-1775260799@ondernemersfondsbreda.nl
SUMMARY:Goede Vrijdag
DESCRIPTION:
URL:https://ondernemersfondsbreda.nl/kalender/goede-vrijdag-3/
LOCATION:Noord-Brabant
CATEGORIES:Feest- en bijzondere dagen
END:VEVENT
BEGIN:VEVENT
DTSTART;VALUE=DATE:20260405
DTEND;VALUE=DATE:20260406
DTSTAMP:20260422T222100
CREATED:20251118T135822Z
LAST-MODIFIED:20251118T135822Z
UID:1604-1775347200-1775433599@ondernemersfondsbreda.nl
SUMMARY:1e Paasdag
DESCRIPTION:Winkels gesloten
URL:https://ondernemersfondsbreda.nl/kalender/1e-paasdag-3/
LOCATION:Noord-Brabant
CATEGORIES:Feest- en bijzondere dagen
END:VEVENT
BEGIN:VEVENT
DTSTART;VALUE=DATE:20260406
DTEND;VALUE=DATE:20260407
DTSTAMP:20260422T222100
CREATED:20251118T135823Z
LAST-MODIFIED:20251118T135823Z
UID:1605-1775433600-1775519999@ondernemersfondsbreda.nl
SUMMARY:2e Paasdag
DESCRIPTION:Winkels open van 12:00 uur tot 17:00 uur
URL:https://ondernemersfondsbreda.nl/kalender/2e-paasdag-3/
LOCATION:Noord-Brabant
CATEGORIES:Feest- en bijzondere dagen
END:VEVENT
BEGIN:VEVENT
DTSTART;VALUE=DATE:20260406
DTEND;VALUE=DATE:20260420
DTSTAMP:20260422T222100
CREATED:20251118T135823Z
LAST-MODIFIED:20251118T135823Z
UID:1607-1775433600-1776643199@ondernemersfondsbreda.nl
SUMMARY:Paasvakantie België
DESCRIPTION:
URL:https://ondernemersfondsbreda.nl/kalender/paasvakantie-belgie/
LOCATION:Noord-Brabant
CATEGORIES:België,Vakanties
END:VEVENT
BEGIN:VEVENT
DTSTART;VALUE=DATE:20260425
DTEND;VALUE=DATE:20260504
DTSTAMP:20260422T222100
CREATED:20251118T135837Z
LAST-MODIFIED:20251118T135837Z
UID:1609-1777075200-1777852799@ondernemersfondsbreda.nl
SUMMARY:Meivakantie
DESCRIPTION:Alle regio’s
URL:https://ondernemersfondsbreda.nl/kalender/meivakantie-3/
LOCATION:Noord-Brabant
CATEGORIES:Vakanties
END:VEVENT
BEGIN:VEVENT
DTSTART;VALUE=DATE:20260426
DTEND;VALUE=DATE:20260427
DTSTAMP:20260422T222100
CREATED:20251118T135838Z
LAST-MODIFIED:20251118T135838Z
UID:1611-1777161600-1777247999@ondernemersfondsbreda.nl
SUMMARY:Koningsnacht
DESCRIPTION:
URL:https://ondernemersfondsbreda.nl/kalender/koningsnacht-3/
LOCATION:Noord-Brabant
CATEGORIES:Feest- en bijzondere dagen
END:VEVENT
BEGIN:VEVENT
DTSTART;VALUE=DATE:20260427
DTEND;VALUE=DATE:20260428
DTSTAMP:20260422T222100
CREATED:20251118T135838Z
LAST-MODIFIED:20251118T135838Z
UID:1612-1777248000-1777334399@ondernemersfondsbreda.nl
SUMMARY:Koningsdag
DESCRIPTION:Winkels open van 12:00 uur tot 17:00 uur
URL:https://ondernemersfondsbreda.nl/kalender/koningsdag-3/
LOCATION:Noord-Brabant
CATEGORIES:Evenementen,Feest- en bijzondere dagen
END:VEVENT
BEGIN:VEVENT
DTSTART;VALUE=DATE:20260501
DTEND;VALUE=DATE:20260502
DTSTAMP:20260422T222100
CREATED:20251118T135838Z
LAST-MODIFIED:20251118T135838Z
UID:1613-1777593600-1777679999@ondernemersfondsbreda.nl
SUMMARY:Dag van de Arbeid
DESCRIPTION:Belgische feestdag
URL:https://ondernemersfondsbreda.nl/kalender/dag-van-de-arbeid-3/
LOCATION:Noord-Brabant
CATEGORIES:België
END:VEVENT
END:VCALENDAR