BEGIN:VCALENDAR
VERSION:2.0
PRODID:-//Stichting Ondernemersfonds Breda - ECPv6.15.13.1//NONSGML v1.0//EN
CALSCALE:GREGORIAN
METHOD:PUBLISH
X-WR-CALNAME:Stichting Ondernemersfonds Breda
X-ORIGINAL-URL:https://ondernemersfondsbreda.nl
X-WR-CALDESC:Evenementen voor Stichting Ondernemersfonds Breda
REFRESH-INTERVAL;VALUE=DURATION:PT1H
X-Robots-Tag:noindex
X-PUBLISHED-TTL:PT1H
BEGIN:VTIMEZONE
TZID:UTC
BEGIN:STANDARD
TZOFFSETFROM:+0000
TZOFFSETTO:+0000
TZNAME:UTC
DTSTART:20230101T000000
END:STANDARD
END:VTIMEZONE
BEGIN:VEVENT
DTSTART;VALUE=DATE:20250405
DTEND;VALUE=DATE:20250422
DTSTAMP:20260422T224837
CREATED:20241119T100150Z
LAST-MODIFIED:20241119T100150Z
UID:1439-1743811200-1745279999@ondernemersfondsbreda.nl
SUMMARY:Paasvakantie
DESCRIPTION:
URL:https://ondernemersfondsbreda.nl/kalender/paasvakantie-2/
CATEGORIES:België,Vakanties
END:VEVENT
BEGIN:VEVENT
DTSTART;VALUE=DATE:20250330
DTEND;VALUE=DATE:20250401
DTSTAMP:20260422T224837
CREATED:20241119T100150Z
LAST-MODIFIED:20241119T100150Z
UID:1440-1743292800-1743465599@ondernemersfondsbreda.nl
SUMMARY:Suikerfeest
DESCRIPTION:
URL:https://ondernemersfondsbreda.nl/kalender/suikerfeest-2/
CATEGORIES:Feest- en bijzondere dagen
END:VEVENT
BEGIN:VEVENT
DTSTART;VALUE=DATE:20250301
DTEND;VALUE=DATE:20250310
DTSTAMP:20260422T224837
CREATED:20241119T100134Z
LAST-MODIFIED:20241119T100134Z
UID:1433-1740787200-1741564799@ondernemersfondsbreda.nl
SUMMARY:Krokusvakantie
DESCRIPTION:
URL:https://ondernemersfondsbreda.nl/kalender/krokusvakantie-2/
CATEGORIES:België
END:VEVENT
BEGIN:VEVENT
DTSTART;VALUE=DATE:20250228
DTEND;VALUE=DATE:20250330
DTSTAMP:20260422T224837
CREATED:20241119T100135Z
LAST-MODIFIED:20241119T100135Z
UID:1435-1740700800-1743292799@ondernemersfondsbreda.nl
SUMMARY:Ramadan
DESCRIPTION:
URL:https://ondernemersfondsbreda.nl/kalender/ramadan/
CATEGORIES:Feest- en bijzondere dagen
END:VEVENT
BEGIN:VEVENT
DTSTART;VALUE=DATE:20250228
DTEND;VALUE=DATE:20250305
DTSTAMP:20260422T224837
CREATED:20241119T100132Z
LAST-MODIFIED:20241119T100132Z
UID:1425-1740700800-1741132799@ondernemersfondsbreda.nl
SUMMARY:Carnaval in ut Kielegat
DESCRIPTION:
URL:https://ondernemersfondsbreda.nl/kalender/carnaval-in-ut-kielegat/
CATEGORIES:Evenementen
END:VEVENT
BEGIN:VEVENT
DTSTART;VALUE=DATE:20250222
DTEND;VALUE=DATE:20250303
DTSTAMP:20260422T224837
CREATED:20241119T100134Z
LAST-MODIFIED:20241119T100134Z
UID:1432-1740182400-1740959999@ondernemersfondsbreda.nl
SUMMARY:Voorjaarsvakantie / Carnavalsvakantie
DESCRIPTION:Regio Noord: 15 februari t/m 23 februariRegio Midden: 22 februari t/m 2 maart\nRegio Zuid: 22 februari t/m 2 maart
URL:https://ondernemersfondsbreda.nl/kalender/voorjaarsvakantie-carnavalsvakantie-2/
CATEGORIES:Vakanties
END:VEVENT
BEGIN:VEVENT
DTSTART;VALUE=DATE:20250214
DTEND;VALUE=DATE:20250215
DTSTAMP:20260422T224837
CREATED:20241119T100134Z
LAST-MODIFIED:20241119T100134Z
UID:1434-1739491200-1739577599@ondernemersfondsbreda.nl
SUMMARY:Valentijnsdag
DESCRIPTION:
URL:https://ondernemersfondsbreda.nl/kalender/valentijnsdag-2/
CATEGORIES:Inhaakmomenten
END:VEVENT
BEGIN:VEVENT
DTSTART;TZID=UTC:20250209T133000
DTEND;TZID=UTC:20250209T173000
DTSTAMP:20260422T224837
CREATED:20241119T100132Z
LAST-MODIFIED:20241119T100132Z
UID:1430-1739107800-1739122200@ondernemersfondsbreda.nl
SUMMARY:Bredase Klûntocht
DESCRIPTION:
URL:https://ondernemersfondsbreda.nl/kalender/bredase-kluntocht-2/
CATEGORIES:Evenementen
END:VEVENT
BEGIN:VEVENT
DTSTART;VALUE=DATE:20250101
DTEND;VALUE=DATE:20250102
DTSTAMP:20260422T224837
CREATED:20241119T100132Z
LAST-MODIFIED:20241119T100132Z
UID:1423-1735689600-1735775999@ondernemersfondsbreda.nl
SUMMARY:Nieuwjaarsdag
DESCRIPTION:Winkels gesloten
URL:https://ondernemersfondsbreda.nl/kalender/nieuwjaarsdag-2/
CATEGORIES:Feest- en bijzondere dagen
END:VEVENT
BEGIN:VEVENT
DTSTART;VALUE=DATE:20241231
DTEND;VALUE=DATE:20250101
DTSTAMP:20260422T224837
CREATED:20230517T095229Z
LAST-MODIFIED:20231207T113543Z
UID:926-1735603200-1735689599@ondernemersfondsbreda.nl
SUMMARY:Oudjaarsdag
DESCRIPTION:Winkels open tot 17
URL:https://ondernemersfondsbreda.nl/kalender/oudjaarsdag/
CATEGORIES:Feest- en bijzondere dagen
END:VEVENT
BEGIN:VEVENT
DTSTART;VALUE=DATE:20241226
DTEND;VALUE=DATE:20241227
DTSTAMP:20260422T224837
CREATED:20230517T095158Z
LAST-MODIFIED:20231207T113418Z
UID:924-1735171200-1735257599@ondernemersfondsbreda.nl
SUMMARY:2e Kerstdag
DESCRIPTION:Winkels open van 12 tot 17
URL:https://ondernemersfondsbreda.nl/kalender/2e-kerstdag/
CATEGORIES:Feest- en bijzondere dagen
END:VEVENT
BEGIN:VEVENT
DTSTART;VALUE=DATE:20241225
DTEND;VALUE=DATE:20241226
DTSTAMP:20260422T224837
CREATED:20230517T091406Z
LAST-MODIFIED:20231207T113404Z
UID:922-1735084800-1735171199@ondernemersfondsbreda.nl
SUMMARY:1e Kerstdag
DESCRIPTION:Winkels gesloten
URL:https://ondernemersfondsbreda.nl/kalender/1e-kerstdag/
CATEGORIES:Feest- en bijzondere dagen
END:VEVENT
BEGIN:VEVENT
DTSTART;VALUE=DATE:20241224
DTEND;VALUE=DATE:20241225
DTSTAMP:20260422T224837
CREATED:20230517T091329Z
LAST-MODIFIED:20240206T092902Z
UID:920-1734998400-1735084799@ondernemersfondsbreda.nl
SUMMARY:Kerstavond
DESCRIPTION:Winkels geopend tot 17
URL:https://ondernemersfondsbreda.nl/kalender/kerstavond/
CATEGORIES:Feest- en bijzondere dagen
END:VEVENT
BEGIN:VEVENT
DTSTART;VALUE=DATE:20241221
DTEND;VALUE=DATE:20250106
DTSTAMP:20260422T224837
CREATED:20230517T100321Z
LAST-MODIFIED:20241119T100132Z
UID:938-1734739200-1736121599@ondernemersfondsbreda.nl
SUMMARY:Kerstvakantie
DESCRIPTION:Alle regio’s
URL:https://ondernemersfondsbreda.nl/kalender/kerstvakantie/
CATEGORIES:België,Vakanties
END:VEVENT
BEGIN:VEVENT
DTSTART;VALUE=DATE:20241213
DTEND;VALUE=DATE:20250106
DTSTAMP:20260422T224837
CREATED:20241119T100132Z
LAST-MODIFIED:20241119T100132Z
UID:1422-1734048000-1736121599@ondernemersfondsbreda.nl
SUMMARY:Breda Straalt
DESCRIPTION:
URL:https://ondernemersfondsbreda.nl/kalender/breda-straalt-2/
CATEGORIES:Evenementen
END:VEVENT
BEGIN:VEVENT
DTSTART;VALUE=DATE:20241205
DTEND;VALUE=DATE:20241206
DTSTAMP:20260422T224837
CREATED:20230517T091257Z
LAST-MODIFIED:20240206T093035Z
UID:918-1733356800-1733443199@ondernemersfondsbreda.nl
SUMMARY:Pakjesavond
DESCRIPTION:Winkels geopend tot 17 (géén koopavond)
URL:https://ondernemersfondsbreda.nl/kalender/sinterklaas/
CATEGORIES:Feest- en bijzondere dagen
END:VEVENT
BEGIN:VEVENT
DTSTART;VALUE=DATE:20241129
DTEND;VALUE=DATE:20241130
DTSTAMP:20260422T224837
CREATED:20230517T091230Z
LAST-MODIFIED:20240206T092838Z
UID:916-1732838400-1732924799@ondernemersfondsbreda.nl
SUMMARY:Black Friday
DESCRIPTION:Géén extra koopavond
URL:https://ondernemersfondsbreda.nl/kalender/black-friday/
CATEGORIES:Feest- en bijzondere dagen
END:VEVENT
BEGIN:VEVENT
DTSTART;VALUE=DATE:20241111
DTEND;VALUE=DATE:20241112
DTSTAMP:20260422T224837
CREATED:20240123T132330Z
LAST-MODIFIED:20240123T132330Z
UID:1256-1731283200-1731369599@ondernemersfondsbreda.nl
SUMMARY:Wapenstilstand
DESCRIPTION:Winkels gesloten in België
URL:https://ondernemersfondsbreda.nl/kalender/wapenstilstand/
CATEGORIES:België
END:VEVENT
BEGIN:VEVENT
DTSTART;VALUE=DATE:20241111
DTEND;VALUE=DATE:20241112
DTSTAMP:20260422T224837
CREATED:20230517T091006Z
LAST-MODIFIED:20231207T112939Z
UID:910-1731283200-1731369599@ondernemersfondsbreda.nl
SUMMARY:Sint-Maarten
DESCRIPTION:
URL:https://ondernemersfondsbreda.nl/kalender/sint-maarten/
CATEGORIES:Feest- en bijzondere dagen
END:VEVENT
BEGIN:VEVENT
DTSTART;VALUE=DATE:20241108
DTEND;VALUE=DATE:20241111
DTSTAMP:20260422T224837
CREATED:20230517T091029Z
LAST-MODIFIED:20231207T113032Z
UID:912-1731024000-1731283199@ondernemersfondsbreda.nl
SUMMARY:Elluf Elluf-weekend
DESCRIPTION:
URL:https://ondernemersfondsbreda.nl/kalender/11e-van-de-11e/
CATEGORIES:Feest- en bijzondere dagen
END:VEVENT
BEGIN:VEVENT
DTSTART;VALUE=DATE:20241101
DTEND;VALUE=DATE:20241102
DTSTAMP:20260422T224837
CREATED:20230517T090934Z
LAST-MODIFIED:20231207T112916Z
UID:908-1730419200-1730505599@ondernemersfondsbreda.nl
SUMMARY:Allerheiligen
DESCRIPTION:Winkels gesloten in België
URL:https://ondernemersfondsbreda.nl/kalender/allerheiligen/
CATEGORIES:België
END:VEVENT
BEGIN:VEVENT
DTSTART;VALUE=DATE:20241031
DTEND;VALUE=DATE:20241101
DTSTAMP:20260422T224837
CREATED:20230517T090856Z
LAST-MODIFIED:20231207T112837Z
UID:906-1730332800-1730419199@ondernemersfondsbreda.nl
SUMMARY:Halloween
DESCRIPTION:
URL:https://ondernemersfondsbreda.nl/kalender/halloween/
CATEGORIES:Feest- en bijzondere dagen
END:VEVENT
BEGIN:VEVENT
DTSTART;VALUE=DATE:20241026
DTEND;VALUE=DATE:20241104
DTSTAMP:20260422T224837
CREATED:20230517T100410Z
LAST-MODIFIED:20231207T112824Z
UID:940-1729900800-1730678399@ondernemersfondsbreda.nl
SUMMARY:Herfstvakantie
DESCRIPTION:
URL:https://ondernemersfondsbreda.nl/kalender/herfstvakantie-2/
CATEGORIES:België
END:VEVENT
BEGIN:VEVENT
DTSTART;VALUE=DATE:20241019
DTEND;VALUE=DATE:20241104
DTSTAMP:20260422T224837
CREATED:20230517T100209Z
LAST-MODIFIED:20231207T112756Z
UID:936-1729296000-1730678399@ondernemersfondsbreda.nl
SUMMARY:Herfstvakantie (2 regio's)
DESCRIPTION:Regio Midden & Noord: 26 oktober t/m 3 november\nRegio Zuid: 19 oktober t/m 27 oktober
URL:https://ondernemersfondsbreda.nl/kalender/herfstvakantie/
CATEGORIES:Vakanties
END:VEVENT
BEGIN:VEVENT
DTSTART;VALUE=DATE:20241006
DTEND;VALUE=DATE:20241007
DTSTAMP:20260422T224837
CREATED:20230517T090801Z
LAST-MODIFIED:20231207T112548Z
UID:902-1728172800-1728259199@ondernemersfondsbreda.nl
SUMMARY:Singelloop
DESCRIPTION:Winkels binnen de Singels gesloten
URL:https://ondernemersfondsbreda.nl/kalender/singelloop/
CATEGORIES:Evenementen
END:VEVENT
BEGIN:VEVENT
DTSTART;VALUE=DATE:20241004
DTEND;VALUE=DATE:20241005
DTSTAMP:20260422T224837
CREATED:20230517T090827Z
LAST-MODIFIED:20231207T112605Z
UID:904-1728000000-1728086399@ondernemersfondsbreda.nl
SUMMARY:Dierendag
DESCRIPTION:
URL:https://ondernemersfondsbreda.nl/kalender/dierendag/
CATEGORIES:Feest- en bijzondere dagen
END:VEVENT
BEGIN:VEVENT
DTSTART;VALUE=DATE:20240914
DTEND;VALUE=DATE:20240916
DTSTAMP:20260422T224837
CREATED:20230517T110415Z
LAST-MODIFIED:20231207T112402Z
UID:983-1726272000-1726444799@ondernemersfondsbreda.nl
SUMMARY:Open Monumentendagen
DESCRIPTION:Centrum van Breda
URL:https://ondernemersfondsbreda.nl/kalender/open-monumentendagen/
CATEGORIES:Evenementen
END:VEVENT
BEGIN:VEVENT
DTSTART;VALUE=DATE:20240913
DTEND;VALUE=DATE:20241104
DTSTAMP:20260422T224837
CREATED:20240215T100751Z
LAST-MODIFIED:20240215T100751Z
UID:1298-1726185600-1730678399@ondernemersfondsbreda.nl
SUMMARY:BredaPhoto
DESCRIPTION:
URL:https://ondernemersfondsbreda.nl/kalender/bredaphoto/
CATEGORIES:Evenementen
END:VEVENT
BEGIN:VEVENT
DTSTART;VALUE=DATE:20240906
DTEND;VALUE=DATE:20240908
DTSTAMP:20260422T224837
CREATED:20240827T081647Z
LAST-MODIFIED:20240827T081647Z
UID:1401-1725580800-1725753599@ondernemersfondsbreda.nl
SUMMARY:Breda Barst
DESCRIPTION:Park Valkenberg
URL:https://ondernemersfondsbreda.nl/kalender/breda-barst-2/
CATEGORIES:Evenementen
END:VEVENT
BEGIN:VEVENT
DTSTART;VALUE=DATE:20240831
DTEND;VALUE=DATE:20240901
DTSTAMP:20260422T224837
CREATED:20230517T110047Z
LAST-MODIFIED:20231207T112208Z
UID:977-1725062400-1725148799@ondernemersfondsbreda.nl
SUMMARY:Tranen van van Cooth
DESCRIPTION:Van Coothplein
URL:https://ondernemersfondsbreda.nl/kalender/tranen-van-van-cooth/
CATEGORIES:Evenementen
END:VEVENT
END:VCALENDAR