BEGIN:VCALENDAR
VERSION:2.0
PRODID:-//Stichting Ondernemersfonds Breda - ECPv6.15.13.1//NONSGML v1.0//EN
CALSCALE:GREGORIAN
METHOD:PUBLISH
X-ORIGINAL-URL:https://ondernemersfondsbreda.nl
X-WR-CALDESC:Evenementen voor Stichting Ondernemersfonds Breda
REFRESH-INTERVAL;VALUE=DURATION:PT1H
X-Robots-Tag:noindex
X-PUBLISHED-TTL:PT1H
BEGIN:VTIMEZONE
TZID:UTC
BEGIN:STANDARD
TZOFFSETFROM:+0000
TZOFFSETTO:+0000
TZNAME:UTC
DTSTART:20230101T000000
END:STANDARD
END:VTIMEZONE
BEGIN:VEVENT
DTSTART;VALUE=DATE:20240310
DTEND;VALUE=DATE:20240311
DTSTAMP:20260423T063600
CREATED:20230517T085844Z
LAST-MODIFIED:20231207T104944Z
UID:871-1710028800-1710115199@ondernemersfondsbreda.nl
SUMMARY:Start Ramadan
DESCRIPTION:
URL:https://ondernemersfondsbreda.nl/kalender/start-ramadan/
CATEGORIES:Feest- en bijzondere dagen
END:VEVENT
BEGIN:VEVENT
DTSTART;VALUE=DATE:20240329
DTEND;VALUE=DATE:20240330
DTSTAMP:20260423T063600
CREATED:20230517T085934Z
LAST-MODIFIED:20231207T105056Z
UID:873-1711670400-1711756799@ondernemersfondsbreda.nl
SUMMARY:Goede Vrijdag
DESCRIPTION:
URL:https://ondernemersfondsbreda.nl/kalender/goede-vrijdag/
CATEGORIES:Feest- en bijzondere dagen
END:VEVENT
BEGIN:VEVENT
DTSTART;VALUE=DATE:20240330
DTEND;VALUE=DATE:20240415
DTSTAMP:20260423T063600
CREATED:20230517T100508Z
LAST-MODIFIED:20231207T105024Z
UID:944-1711756800-1713139199@ondernemersfondsbreda.nl
SUMMARY:Paasvakantie
DESCRIPTION:
URL:https://ondernemersfondsbreda.nl/kalender/paasvakantie/
CATEGORIES:België
END:VEVENT
BEGIN:VEVENT
DTSTART;VALUE=DATE:20240331
DTEND;VALUE=DATE:20240401
DTSTAMP:20260423T063600
CREATED:20230517T090012Z
LAST-MODIFIED:20231207T105710Z
UID:875-1711843200-1711929599@ondernemersfondsbreda.nl
SUMMARY:1e Paasdag
DESCRIPTION:Winkels gesloten
URL:https://ondernemersfondsbreda.nl/kalender/1e-paasdag/
CATEGORIES:Feest- en bijzondere dagen
END:VEVENT
END:VCALENDAR