BEGIN:VCALENDAR
VERSION:2.0
PRODID:-//Stichting Ondernemersfonds Breda - ECPv6.15.13.1//NONSGML v1.0//EN
CALSCALE:GREGORIAN
METHOD:PUBLISH
X-WR-CALNAME:Stichting Ondernemersfonds Breda
X-ORIGINAL-URL:https://ondernemersfondsbreda.nl
X-WR-CALDESC:Evenementen voor Stichting Ondernemersfonds Breda
REFRESH-INTERVAL;VALUE=DURATION:PT1H
X-Robots-Tag:noindex
X-PUBLISHED-TTL:PT1H
BEGIN:VTIMEZONE
TZID:UTC
BEGIN:STANDARD
TZOFFSETFROM:+0000
TZOFFSETTO:+0000
TZNAME:UTC
DTSTART:20230101T000000
END:STANDARD
END:VTIMEZONE
BEGIN:VEVENT
DTSTART;VALUE=DATE:20240330
DTEND;VALUE=DATE:20240415
DTSTAMP:20260423T051220
CREATED:20230517T100508Z
LAST-MODIFIED:20231207T105024Z
UID:944-1711756800-1713139199@ondernemersfondsbreda.nl
SUMMARY:Paasvakantie
DESCRIPTION:
URL:https://ondernemersfondsbreda.nl/kalender/paasvakantie/
CATEGORIES:België
END:VEVENT
BEGIN:VEVENT
DTSTART;VALUE=DATE:20240401
DTEND;VALUE=DATE:20240402
DTSTAMP:20260423T051220
CREATED:20230517T090057Z
LAST-MODIFIED:20231207T105735Z
UID:877-1711929600-1712015999@ondernemersfondsbreda.nl
SUMMARY:2e Paasdag
DESCRIPTION:Winkels open van 12 tot 17
URL:https://ondernemersfondsbreda.nl/kalender/2e-paasdag/
CATEGORIES:Feest- en bijzondere dagen
END:VEVENT
BEGIN:VEVENT
DTSTART;VALUE=DATE:20240409
DTEND;VALUE=DATE:20240411
DTSTAMP:20260423T051220
CREATED:20230517T090158Z
LAST-MODIFIED:20231207T105824Z
UID:881-1712620800-1712793599@ondernemersfondsbreda.nl
SUMMARY:Suikerfeest
DESCRIPTION:
URL:https://ondernemersfondsbreda.nl/kalender/suikerfeest/
CATEGORIES:Feest- en bijzondere dagen
END:VEVENT
BEGIN:VEVENT
DTSTART;VALUE=DATE:20240420
DTEND;VALUE=DATE:20240506
DTSTAMP:20260423T051220
CREATED:20230517T095440Z
LAST-MODIFIED:20240423T121103Z
UID:930-1713571200-1714953599@ondernemersfondsbreda.nl
SUMMARY:Meivakantie
DESCRIPTION:
URL:https://ondernemersfondsbreda.nl/kalender/meivakantie/
CATEGORIES:Vakanties
END:VEVENT
BEGIN:VEVENT
DTSTART;VALUE=DATE:20240426
DTEND;VALUE=DATE:20240427
DTSTAMP:20260423T051220
CREATED:20230517T104831Z
LAST-MODIFIED:20231207T105905Z
UID:949-1714089600-1714175999@ondernemersfondsbreda.nl
SUMMARY:Koningsnacht
DESCRIPTION:
URL:https://ondernemersfondsbreda.nl/kalender/koningsnacht/
CATEGORIES:Evenementen,Feest- en bijzondere dagen
END:VEVENT
BEGIN:VEVENT
DTSTART;VALUE=DATE:20240427
DTEND;VALUE=DATE:20240428
DTSTAMP:20260423T051220
CREATED:20230517T090128Z
LAST-MODIFIED:20231207T105940Z
UID:879-1714176000-1714262399@ondernemersfondsbreda.nl
SUMMARY:Koningsdag
DESCRIPTION:Winkels open van 12 tot 17
URL:https://ondernemersfondsbreda.nl/kalender/koningsdag/
CATEGORIES:Evenementen,Feest- en bijzondere dagen
END:VEVENT
END:VCALENDAR