BEGIN:VCALENDAR
VERSION:2.0
PRODID:-//Stichting Ondernemersfonds Breda - ECPv6.15.13.1//NONSGML v1.0//EN
CALSCALE:GREGORIAN
METHOD:PUBLISH
X-ORIGINAL-URL:https://ondernemersfondsbreda.nl
X-WR-CALDESC:Evenementen voor Stichting Ondernemersfonds Breda
REFRESH-INTERVAL;VALUE=DURATION:PT1H
X-Robots-Tag:noindex
X-PUBLISHED-TTL:PT1H
BEGIN:VTIMEZONE
TZID:UTC
BEGIN:STANDARD
TZOFFSETFROM:+0000
TZOFFSETTO:+0000
TZNAME:UTC
DTSTART:20230101T000000
END:STANDARD
END:VTIMEZONE
BEGIN:VEVENT
DTSTART;VALUE=DATE:20240420
DTEND;VALUE=DATE:20240506
DTSTAMP:20260423T034822
CREATED:20230517T095440Z
LAST-MODIFIED:20240423T121103Z
UID:930-1713571200-1714953599@ondernemersfondsbreda.nl
SUMMARY:Meivakantie
DESCRIPTION:
URL:https://ondernemersfondsbreda.nl/kalender/meivakantie/
CATEGORIES:Vakanties
END:VEVENT
BEGIN:VEVENT
DTSTART;VALUE=DATE:20240501
DTEND;VALUE=DATE:20240502
DTSTAMP:20260423T034822
CREATED:20230517T090237Z
LAST-MODIFIED:20231207T110756Z
UID:883-1714521600-1714607999@ondernemersfondsbreda.nl
SUMMARY:Dag van de Arbeid
DESCRIPTION:Belgische feestdag
URL:https://ondernemersfondsbreda.nl/kalender/dag-van-de-arbeid/
CATEGORIES:België
END:VEVENT
BEGIN:VEVENT
DTSTART;VALUE=DATE:20240504
DTEND;VALUE=DATE:20240505
DTSTAMP:20260423T034822
CREATED:20230517T090329Z
LAST-MODIFIED:20231207T110807Z
UID:886-1714780800-1714867199@ondernemersfondsbreda.nl
SUMMARY:Dodenherdenking
DESCRIPTION:Winkels verplicht sluiten om 19 uur
URL:https://ondernemersfondsbreda.nl/kalender/dodenherdenking/
CATEGORIES:Feest- en bijzondere dagen
END:VEVENT
BEGIN:VEVENT
DTSTART;VALUE=DATE:20240505
DTEND;VALUE=DATE:20240506
DTSTAMP:20260423T034822
CREATED:20230517T090422Z
LAST-MODIFIED:20231207T110820Z
UID:888-1714867200-1714953599@ondernemersfondsbreda.nl
SUMMARY:Bevrijdingsdag
DESCRIPTION:
URL:https://ondernemersfondsbreda.nl/kalender/bevrijdingsdag/
CATEGORIES:Feest- en bijzondere dagen
END:VEVENT
BEGIN:VEVENT
DTSTART;VALUE=DATE:20240509
DTEND;VALUE=DATE:20240510
DTSTAMP:20260423T034822
CREATED:20230517T090514Z
LAST-MODIFIED:20231207T110952Z
UID:892-1715212800-1715299199@ondernemersfondsbreda.nl
SUMMARY:Hemelvaartsdag
DESCRIPTION:Winkels open van 12 tot 17
URL:https://ondernemersfondsbreda.nl/kalender/hemelvaartsdag/
CATEGORIES:Feest- en bijzondere dagen
END:VEVENT
BEGIN:VEVENT
DTSTART;VALUE=DATE:20240509
DTEND;VALUE=DATE:20240513
DTSTAMP:20260423T034822
CREATED:20230517T105044Z
LAST-MODIFIED:20231207T111020Z
UID:951-1715212800-1715558399@ondernemersfondsbreda.nl
SUMMARY:Breda Jazz Festival
DESCRIPTION:Met podia o.a. op locaties Grote Markt\, Kerkplein\, St. Janstraat\, Veemarkstraat\, Haven\, Havermarkt & Spanjaardsgat
URL:https://ondernemersfondsbreda.nl/kalender/breda-jazz-festival/
CATEGORIES:Evenementen
END:VEVENT
BEGIN:VEVENT
DTSTART;VALUE=DATE:20240512
DTEND;VALUE=DATE:20240513
DTSTAMP:20260423T034822
CREATED:20230517T090446Z
LAST-MODIFIED:20231207T110923Z
UID:890-1715472000-1715558399@ondernemersfondsbreda.nl
SUMMARY:Moederdag
DESCRIPTION:
URL:https://ondernemersfondsbreda.nl/kalender/moederdag/
CATEGORIES:Feest- en bijzondere dagen
END:VEVENT
BEGIN:VEVENT
DTSTART;VALUE=DATE:20240519
DTEND;VALUE=DATE:20240520
DTSTAMP:20260423T034822
CREATED:20230517T090542Z
LAST-MODIFIED:20231207T111052Z
UID:894-1716076800-1716163199@ondernemersfondsbreda.nl
SUMMARY:1e Pinksterdag
DESCRIPTION:Winkels gesloten
URL:https://ondernemersfondsbreda.nl/kalender/1e-pinksterdag/
CATEGORIES:Feest- en bijzondere dagen
END:VEVENT
BEGIN:VEVENT
DTSTART;VALUE=DATE:20240519
DTEND;VALUE=DATE:20240520
DTSTAMP:20260423T034822
CREATED:20230517T105126Z
LAST-MODIFIED:20231207T111107Z
UID:953-1716076800-1716163199@ondernemersfondsbreda.nl
SUMMARY:Dancetour Breda
DESCRIPTION:Chasséveld
URL:https://ondernemersfondsbreda.nl/kalender/dancetour-breda/
CATEGORIES:Evenementen
END:VEVENT
BEGIN:VEVENT
DTSTART;VALUE=DATE:20240520
DTEND;VALUE=DATE:20240521
DTSTAMP:20260423T034822
CREATED:20230517T105247Z
LAST-MODIFIED:20231207T111213Z
UID:955-1716163200-1716249599@ondernemersfondsbreda.nl
SUMMARY:Nassaudag
DESCRIPTION:O.a. op locaties Kasteelplein\, Grote Markt\, Grote Kerk en Begijnhof
URL:https://ondernemersfondsbreda.nl/kalender/nassaudag/
CATEGORIES:Evenementen
END:VEVENT
BEGIN:VEVENT
DTSTART;VALUE=DATE:20240520
DTEND;VALUE=DATE:20240521
DTSTAMP:20260423T034822
CREATED:20230517T090616Z
LAST-MODIFIED:20231207T111149Z
UID:896-1716163200-1716249599@ondernemersfondsbreda.nl
SUMMARY:2e Pinksterdag
DESCRIPTION:Winkels open van 12 tot 17
URL:https://ondernemersfondsbreda.nl/kalender/2e-pinksterdag/
CATEGORIES:België,Feest- en bijzondere dagen
END:VEVENT
END:VCALENDAR