BEGIN:VCALENDAR
VERSION:2.0
PRODID:-//Stichting Ondernemersfonds Breda - ECPv6.15.13.1//NONSGML v1.0//EN
CALSCALE:GREGORIAN
METHOD:PUBLISH
X-WR-CALNAME:Stichting Ondernemersfonds Breda
X-ORIGINAL-URL:https://ondernemersfondsbreda.nl
X-WR-CALDESC:Evenementen voor Stichting Ondernemersfonds Breda
REFRESH-INTERVAL;VALUE=DURATION:PT1H
X-Robots-Tag:noindex
X-PUBLISHED-TTL:PT1H
BEGIN:VTIMEZONE
TZID:UTC
BEGIN:STANDARD
TZOFFSETFROM:+0000
TZOFFSETTO:+0000
TZNAME:UTC
DTSTART:20230101T000000
END:STANDARD
END:VTIMEZONE
BEGIN:VEVENT
DTSTART;VALUE=DATE:20240701
DTEND;VALUE=DATE:20240901
DTSTAMP:20260423T010121
CREATED:20230517T100434Z
LAST-MODIFIED:20231207T111835Z
UID:942-1719792000-1725148799@ondernemersfondsbreda.nl
SUMMARY:Zomervakantie
DESCRIPTION:
URL:https://ondernemersfondsbreda.nl/kalender/zomervakantie-2/
CATEGORIES:België
END:VEVENT
BEGIN:VEVENT
DTSTART;VALUE=DATE:20240705
DTEND;VALUE=DATE:20240707
DTSTAMP:20260423T010121
CREATED:20230517T105634Z
LAST-MODIFIED:20231207T111747Z
UID:959-1720137600-1720310399@ondernemersfondsbreda.nl
SUMMARY:Breda Live
DESCRIPTION:Chasséveld
URL:https://ondernemersfondsbreda.nl/kalender/breda-live/
CATEGORIES:Evenementen
END:VEVENT
BEGIN:VEVENT
DTSTART;VALUE=DATE:20240706
DTEND;VALUE=DATE:20240819
DTSTAMP:20260423T010121
CREATED:20230517T095624Z
LAST-MODIFIED:20240227T103509Z
UID:932-1720224000-1724025599@ondernemersfondsbreda.nl
SUMMARY:Zomervakantie
DESCRIPTION:Noord: 20 juli t/m 1 september\nMidden: 13 juli t/m 25 augustus\nZuid: 6 juli t/m 18 augustus
URL:https://ondernemersfondsbreda.nl/kalender/zomervakantie/
CATEGORIES:Vakanties
END:VEVENT
BEGIN:VEVENT
DTSTART;TZID=UTC:20240709T190000
DTEND;TZID=UTC:20240709T230000
DTSTAMP:20260423T010121
CREATED:20240625T082840Z
LAST-MODIFIED:20240625T083408Z
UID:1335-1720551600-1720566000@ondernemersfondsbreda.nl
SUMMARY:Parkies (1 van 6)
DESCRIPTION:Park Valkenberg
URL:https://ondernemersfondsbreda.nl/kalender/brand-parkies-1-van-6/
LOCATION:Park Valkenberg\, J.F. Kennedylaan\, Breda\, Noord-Brabant\, 4811XJ\, Nederland
CATEGORIES:Evenementen
END:VEVENT
BEGIN:VEVENT
DTSTART;TZID=UTC:20240716T190000
DTEND;TZID=UTC:20240716T230000
DTSTAMP:20260423T010121
CREATED:20240625T082931Z
LAST-MODIFIED:20240625T083411Z
UID:1338-1721156400-1721170800@ondernemersfondsbreda.nl
SUMMARY:Parkies (2 van 6)
DESCRIPTION:Park Valkenberg
URL:https://ondernemersfondsbreda.nl/kalender/brand-parkies-2-van-6/
LOCATION:Park Valkenberg\, J.F. Kennedylaan\, Breda\, Noord-Brabant\, 4811XJ\, Nederland
CATEGORIES:Evenementen
END:VEVENT
BEGIN:VEVENT
DTSTART;VALUE=DATE:20240720
DTEND;VALUE=DATE:20240721
DTSTAMP:20260423T010121
CREATED:20230517T110021Z
LAST-MODIFIED:20231207T112038Z
UID:975-1721433600-1721519999@ondernemersfondsbreda.nl
SUMMARY:Breda in Concert
DESCRIPTION:Chasséveld
URL:https://ondernemersfondsbreda.nl/kalender/breda-in-concert/
CATEGORIES:Evenementen
END:VEVENT
BEGIN:VEVENT
DTSTART;VALUE=DATE:20240721
DTEND;VALUE=DATE:20240722
DTSTAMP:20260423T010121
CREATED:20240206T092414Z
LAST-MODIFIED:20240206T092414Z
UID:1292-1721520000-1721606399@ondernemersfondsbreda.nl
SUMMARY:Nationale feestdag
DESCRIPTION:Als een Belgische feestdag op een zondag valt\, moeten werkgevers en werknemers een vervangdag aangeven. Vaak is dit de dag ná het weekend.
URL:https://ondernemersfondsbreda.nl/kalender/nationale-feestdag/
CATEGORIES:België
END:VEVENT
BEGIN:VEVENT
DTSTART;VALUE=DATE:20240722
DTEND;VALUE=DATE:20240810
DTSTAMP:20260423T010121
CREATED:20230517T095749Z
LAST-MODIFIED:20231207T112121Z
UID:934-1721606400-1723247999@ondernemersfondsbreda.nl
SUMMARY:Bouwvak (Regio Zuid)
DESCRIPTION:
URL:https://ondernemersfondsbreda.nl/kalender/bouwvak/
CATEGORIES:Vakanties
END:VEVENT
BEGIN:VEVENT
DTSTART;TZID=UTC:20240723T190000
DTEND;TZID=UTC:20240723T230000
DTSTAMP:20260423T010121
CREATED:20240625T083036Z
LAST-MODIFIED:20240625T083414Z
UID:1340-1721761200-1721775600@ondernemersfondsbreda.nl
SUMMARY:Parkies (3 van 6)
DESCRIPTION:Park Valkenberg
URL:https://ondernemersfondsbreda.nl/kalender/brand-parkies-3-van-6/
LOCATION:Park Valkenberg\, J.F. Kennedylaan\, Breda\, Noord-Brabant\, 4811XJ\, Nederland
CATEGORIES:Evenementen
END:VEVENT
BEGIN:VEVENT
DTSTART;TZID=UTC:20240730T190000
DTEND;TZID=UTC:20240730T230000
DTSTAMP:20260423T010121
CREATED:20240625T083056Z
LAST-MODIFIED:20240625T083418Z
UID:1341-1722366000-1722380400@ondernemersfondsbreda.nl
SUMMARY:Parkies (4 van 6)
DESCRIPTION:Park Valkenberg
URL:https://ondernemersfondsbreda.nl/kalender/brand-parkies-4-van-6/
LOCATION:Park Valkenberg\, J.F. Kennedylaan\, Breda\, Noord-Brabant\, 4811XJ\, Nederland
CATEGORIES:Evenementen
END:VEVENT
END:VCALENDAR