BEGIN:VCALENDAR
VERSION:2.0
PRODID:-//Stichting Ondernemersfonds Breda - ECPv6.15.13.1//NONSGML v1.0//EN
CALSCALE:GREGORIAN
METHOD:PUBLISH
X-WR-CALNAME:Stichting Ondernemersfonds Breda
X-ORIGINAL-URL:https://ondernemersfondsbreda.nl
X-WR-CALDESC:Evenementen voor Stichting Ondernemersfonds Breda
REFRESH-INTERVAL;VALUE=DURATION:PT1H
X-Robots-Tag:noindex
X-PUBLISHED-TTL:PT1H
BEGIN:VTIMEZONE
TZID:UTC
BEGIN:STANDARD
TZOFFSETFROM:+0000
TZOFFSETTO:+0000
TZNAME:UTC
DTSTART:20240101T000000
END:STANDARD
END:VTIMEZONE
BEGIN:VEVENT
DTSTART;VALUE=DATE:20250426
DTEND;VALUE=DATE:20250505
DTSTAMP:20260422T083857
CREATED:20241119T100150Z
LAST-MODIFIED:20241119T100150Z
UID:1441-1745625600-1746403199@ondernemersfondsbreda.nl
SUMMARY:Meivakantie
DESCRIPTION:Alle regio’s
URL:https://ondernemersfondsbreda.nl/kalender/meivakantie-2/
CATEGORIES:Vakanties
END:VEVENT
BEGIN:VEVENT
DTSTART;VALUE=DATE:20250501
DTEND;VALUE=DATE:20250502
DTSTAMP:20260422T083857
CREATED:20241119T100210Z
LAST-MODIFIED:20241119T100210Z
UID:1444-1746057600-1746143999@ondernemersfondsbreda.nl
SUMMARY:Dag van de Arbeid
DESCRIPTION:Belgische feestdag
URL:https://ondernemersfondsbreda.nl/kalender/dag-van-de-arbeid-2/
CATEGORIES:België
END:VEVENT
BEGIN:VEVENT
DTSTART;VALUE=DATE:20250503
DTEND;VALUE=DATE:20250506
DTSTAMP:20260422T083857
CREATED:20250422T112534Z
LAST-MODIFIED:20250422T112534Z
UID:1556-1746230400-1746489599@ondernemersfondsbreda.nl
SUMMARY:Bevrijdingsfestival
DESCRIPTION:Kasteelplein
URL:https://ondernemersfondsbreda.nl/kalender/bevrijdingsfestival/
CATEGORIES:Evenementen
END:VEVENT
BEGIN:VEVENT
DTSTART;VALUE=DATE:20250504
DTEND;VALUE=DATE:20250505
DTSTAMP:20260422T083857
CREATED:20241119T100210Z
LAST-MODIFIED:20241119T100210Z
UID:1445-1746316800-1746403199@ondernemersfondsbreda.nl
SUMMARY:Dodenherdenking
DESCRIPTION:Winkels verplicht sluiten om 19:00 uur
URL:https://ondernemersfondsbreda.nl/kalender/dodenherdenking-2/
CATEGORIES:Feest- en bijzondere dagen
END:VEVENT
BEGIN:VEVENT
DTSTART;VALUE=DATE:20250505
DTEND;VALUE=DATE:20250506
DTSTAMP:20260422T083857
CREATED:20241119T100210Z
LAST-MODIFIED:20250218T091229Z
UID:1446-1746403200-1746489599@ondernemersfondsbreda.nl
SUMMARY:Bevrijdingsdag
DESCRIPTION:Verplichte vrije dag in 2025\, winkels geopend (advies)
URL:https://ondernemersfondsbreda.nl/kalender/bevrijdingsdag-2/
CATEGORIES:Feest- en bijzondere dagen
END:VEVENT
BEGIN:VEVENT
DTSTART;VALUE=DATE:20250511
DTEND;VALUE=DATE:20250512
DTSTAMP:20260422T083857
CREATED:20241119T100225Z
LAST-MODIFIED:20241119T100225Z
UID:1449-1746921600-1747007999@ondernemersfondsbreda.nl
SUMMARY:Moederdag
DESCRIPTION:
URL:https://ondernemersfondsbreda.nl/kalender/moederdag-2/
CATEGORIES:Inhaakmomenten
END:VEVENT
BEGIN:VEVENT
DTSTART;VALUE=DATE:20250529
DTEND;VALUE=DATE:20250530
DTSTAMP:20260422T083857
CREATED:20241119T100225Z
LAST-MODIFIED:20241119T100225Z
UID:1447-1748476800-1748563199@ondernemersfondsbreda.nl
SUMMARY:Hemelvaartsdag
DESCRIPTION:Winkels open van 12:00 uur tot 17:00 uur
URL:https://ondernemersfondsbreda.nl/kalender/hemelvaartsdag-2/
CATEGORIES:Feest- en bijzondere dagen
END:VEVENT
BEGIN:VEVENT
DTSTART;VALUE=DATE:20250529
DTEND;VALUE=DATE:20250602
DTSTAMP:20260422T083857
CREATED:20241119T100225Z
LAST-MODIFIED:20241119T100225Z
UID:1448-1748476800-1748822399@ondernemersfondsbreda.nl
SUMMARY:Breda Jazz Festival
DESCRIPTION:
URL:https://ondernemersfondsbreda.nl/kalender/breda-jazz-festival-2/
CATEGORIES:Evenementen
END:VEVENT
END:VCALENDAR