BEGIN:VCALENDAR
VERSION:2.0
PRODID:-//Stichting Ondernemersfonds Breda - ECPv6.15.13.1//NONSGML v1.0//EN
CALSCALE:GREGORIAN
METHOD:PUBLISH
X-ORIGINAL-URL:https://ondernemersfondsbreda.nl
X-WR-CALDESC:Evenementen voor Stichting Ondernemersfonds Breda
REFRESH-INTERVAL;VALUE=DURATION:PT1H
X-Robots-Tag:noindex
X-PUBLISHED-TTL:PT1H
BEGIN:VTIMEZONE
TZID:UTC
BEGIN:STANDARD
TZOFFSETFROM:+0000
TZOFFSETTO:+0000
TZNAME:UTC
DTSTART:20240101T000000
END:STANDARD
END:VTIMEZONE
BEGIN:VEVENT
DTSTART;VALUE=DATE:20250701
DTEND;VALUE=DATE:20250901
DTSTAMP:20260422T041732
CREATED:20241119T100240Z
LAST-MODIFIED:20241119T100240Z
UID:1455-1751328000-1756684799@ondernemersfondsbreda.nl
SUMMARY:Zomervakantie
DESCRIPTION:
URL:https://ondernemersfondsbreda.nl/kalender/zomervakantie-3/
CATEGORIES:België
END:VEVENT
BEGIN:VEVENT
DTSTART;VALUE=DATE:20250705
DTEND;VALUE=DATE:20250818
DTSTAMP:20260422T041732
CREATED:20241119T100255Z
LAST-MODIFIED:20241119T100255Z
UID:1457-1751673600-1755475199@ondernemersfondsbreda.nl
SUMMARY:Zomervakantie
DESCRIPTION:Regio Noord: 12 juli t/m 24 augustusRegio Midden: 19 juli t/m 31 augustus\nRegio Zuid: 5 juli t/m 17 augustus
URL:https://ondernemersfondsbreda.nl/kalender/zomervakantie-4/
CATEGORIES:Vakanties
END:VEVENT
BEGIN:VEVENT
DTSTART;VALUE=DATE:20250721
DTEND;VALUE=DATE:20250818
DTSTAMP:20260422T041732
CREATED:20241119T100311Z
LAST-MODIFIED:20241119T100311Z
UID:1466-1753056000-1755475199@ondernemersfondsbreda.nl
SUMMARY:Bouwvak (Regio Zuid)
DESCRIPTION:
URL:https://ondernemersfondsbreda.nl/kalender/bouwvak-regio-zuid/
CATEGORIES:Vakanties
END:VEVENT
BEGIN:VEVENT
DTSTART;TZID=UTC:20250805T190000
DTEND;TZID=UTC:20250805T230000
DTSTAMP:20260422T041732
CREATED:20241119T100310Z
LAST-MODIFIED:20241119T100310Z
UID:1462-1754420400-1754434800@ondernemersfondsbreda.nl
SUMMARY:Parkies (5 van 6)
DESCRIPTION:
URL:https://ondernemersfondsbreda.nl/kalender/parkies-5-van-6/
LOCATION:Park Valkenberg\, J.F. Kennedylaan\, Breda\, Noord-Brabant\, 4811XJ\, Nederland
CATEGORIES:Evenementen
END:VEVENT
BEGIN:VEVENT
DTSTART;TZID=UTC:20250812T190000
DTEND;TZID=UTC:20250812T230000
DTSTAMP:20260422T041732
CREATED:20241119T100310Z
LAST-MODIFIED:20241119T100310Z
UID:1463-1755025200-1755039600@ondernemersfondsbreda.nl
SUMMARY:Parkies (6 van 6)
DESCRIPTION:
URL:https://ondernemersfondsbreda.nl/kalender/parkies-6-van-6/
LOCATION:Park Valkenberg\, J.F. Kennedylaan\, Breda\, Noord-Brabant\, 4811XJ\, Nederland
CATEGORIES:Evenementen
END:VEVENT
BEGIN:VEVENT
DTSTART;VALUE=DATE:20250815
DTEND;VALUE=DATE:20250816
DTSTAMP:20260422T041732
CREATED:20241119T100325Z
LAST-MODIFIED:20241119T100325Z
UID:1467-1755216000-1755302399@ondernemersfondsbreda.nl
SUMMARY:Maria-Hemelvaart
DESCRIPTION:Belgische feestdag\, meeste winkels in België gesloten
URL:https://ondernemersfondsbreda.nl/kalender/maria-hemelvaart-2/
CATEGORIES:België
END:VEVENT
BEGIN:VEVENT
DTSTART;VALUE=DATE:20250829
DTEND;VALUE=DATE:20250831
DTSTAMP:20260422T041732
CREATED:20250814T085806Z
LAST-MODIFIED:20250814T085806Z
UID:1587-1756425600-1756598399@ondernemersfondsbreda.nl
SUMMARY:Straatfeestje
DESCRIPTION:Vismarktstraat \nVrijdag 29 en zaterdag 30 augustus van 12:00 tot 23:00
URL:https://ondernemersfondsbreda.nl/kalender/straatfeestje/
CATEGORIES:Evenementen
END:VEVENT
BEGIN:VEVENT
DTSTART;VALUE=DATE:20250830
DTEND;VALUE=DATE:20250831
DTSTAMP:20260422T041732
CREATED:20241119T100325Z
LAST-MODIFIED:20250828T121103Z
UID:1468-1756512000-1756598399@ondernemersfondsbreda.nl
SUMMARY:Jáánke meej de Keijzer
DESCRIPTION:
URL:https://ondernemersfondsbreda.nl/kalender/jaanke-meej-de-keijzer/
CATEGORIES:Evenementen
END:VEVENT
END:VCALENDAR