BEGIN:VCALENDAR
VERSION:2.0
PRODID:-//Stichting Ondernemersfonds Breda - ECPv6.15.13.1//NONSGML v1.0//EN
CALSCALE:GREGORIAN
METHOD:PUBLISH
X-WR-CALNAME:Stichting Ondernemersfonds Breda
X-ORIGINAL-URL:https://ondernemersfondsbreda.nl
X-WR-CALDESC:Evenementen voor Stichting Ondernemersfonds Breda
REFRESH-INTERVAL;VALUE=DURATION:PT1H
X-Robots-Tag:noindex
X-PUBLISHED-TTL:PT1H
BEGIN:VTIMEZONE
TZID:UTC
BEGIN:STANDARD
TZOFFSETFROM:+0000
TZOFFSETTO:+0000
TZNAME:UTC
DTSTART:20250101T000000
END:STANDARD
END:VTIMEZONE
BEGIN:VEVENT
DTSTART;VALUE=DATE:20260701
DTEND;VALUE=DATE:20260901
DTSTAMP:20260421T173657
CREATED:20251118T135944Z
LAST-MODIFIED:20251118T135944Z
UID:1624-1782864000-1788220799@ondernemersfondsbreda.nl
SUMMARY:Zomervakantie
DESCRIPTION:
URL:https://ondernemersfondsbreda.nl/kalender/zomervakantie-5/
CATEGORIES:België,Vakanties
END:VEVENT
BEGIN:VEVENT
DTSTART;VALUE=DATE:20260704
DTEND;VALUE=DATE:20260824
DTSTAMP:20260421T173657
CREATED:20251118T135944Z
LAST-MODIFIED:20251118T135944Z
UID:1626-1783123200-1787529599@ondernemersfondsbreda.nl
SUMMARY:Zomervakantie
DESCRIPTION:Regio Noord: 4 juli t/m 16 augustus\nRegio Midden: 18 juli t/m 30 augustus\nRegio Zuid: 11 juli t/m 23 augustus
URL:https://ondernemersfondsbreda.nl/kalender/zomervakantie-6/
CATEGORIES:Vakanties
END:VEVENT
BEGIN:VEVENT
DTSTART;VALUE=DATE:20260725
DTEND;VALUE=DATE:20260816
DTSTAMP:20260421T173657
CREATED:20251118T140019Z
LAST-MODIFIED:20251118T140019Z
UID:1629-1784937600-1786838399@ondernemersfondsbreda.nl
SUMMARY:Bouwvak (Regio Zuid)
DESCRIPTION:
URL:https://ondernemersfondsbreda.nl/kalender/bouwvak-regio-zuid-2/
CATEGORIES:Vakanties
END:VEVENT
BEGIN:VEVENT
DTSTART;TZID=UTC:20260804T190000
DTEND;TZID=UTC:20260804T230000
DTSTAMP:20260421T173657
CREATED:20241119T100255Z
LAST-MODIFIED:20260203T102039Z
UID:1458-1785870000-1785884400@ondernemersfondsbreda.nl
SUMMARY:Parkies (1 van 4)
DESCRIPTION:
URL:https://ondernemersfondsbreda.nl/kalender/parkies-1-van-6/
LOCATION:Park Valkenberg\, J.F. Kennedylaan\, Breda\, Noord-Brabant\, 4811XJ\, Nederland
CATEGORIES:Evenementen
END:VEVENT
BEGIN:VEVENT
DTSTART;TZID=UTC:20260811T190000
DTEND;TZID=UTC:20260811T230000
DTSTAMP:20260421T173657
CREATED:20241119T100255Z
LAST-MODIFIED:20260203T102043Z
UID:1459-1786474800-1786489200@ondernemersfondsbreda.nl
SUMMARY:Parkies (2 van 4)
DESCRIPTION:
URL:https://ondernemersfondsbreda.nl/kalender/parkies-2-van-6/
LOCATION:Park Valkenberg\, J.F. Kennedylaan\, Breda\, Noord-Brabant\, 4811XJ\, Nederland
CATEGORIES:Evenementen
END:VEVENT
BEGIN:VEVENT
DTSTART;VALUE=DATE:20260815
DTEND;VALUE=DATE:20260816
DTSTAMP:20260421T173657
CREATED:20251118T140019Z
LAST-MODIFIED:20251118T140019Z
UID:1630-1786752000-1786838399@ondernemersfondsbreda.nl
SUMMARY:Maria-Hemelvaart
DESCRIPTION:Belgische feestdag\, meeste winkels in België gesloten
URL:https://ondernemersfondsbreda.nl/kalender/maria-hemelvaart-3/
CATEGORIES:België
END:VEVENT
BEGIN:VEVENT
DTSTART;TZID=UTC:20260818T190000
DTEND;TZID=UTC:20260818T230000
DTSTAMP:20260421T173657
CREATED:20241119T100256Z
LAST-MODIFIED:20260203T102046Z
UID:1460-1787079600-1787094000@ondernemersfondsbreda.nl
SUMMARY:Parkies (3 van 4)
DESCRIPTION:
URL:https://ondernemersfondsbreda.nl/kalender/parkies-3-van-6/
LOCATION:Park Valkenberg\, J.F. Kennedylaan\, Breda\, Noord-Brabant\, 4811XJ\, Nederland
CATEGORIES:Evenementen
END:VEVENT
BEGIN:VEVENT
DTSTART;VALUE=DATE:20260829
DTEND;VALUE=DATE:20260830
DTSTAMP:20260421T173657
CREATED:20251118T140019Z
LAST-MODIFIED:20251118T140019Z
UID:1631-1787961600-1788047999@ondernemersfondsbreda.nl
SUMMARY:Jáánke meej de Keijzer
DESCRIPTION:
URL:https://ondernemersfondsbreda.nl/kalender/jaanke-meej-de-keijzer-2/
CATEGORIES:Evenementen
END:VEVENT
BEGIN:VEVENT
DTSTART;TZID=UTC:20260829T190000
DTEND;TZID=UTC:20260829T230000
DTSTAMP:20260421T173657
CREATED:20241119T100256Z
LAST-MODIFIED:20260203T102051Z
UID:1461-1788030000-1788044400@ondernemersfondsbreda.nl
SUMMARY:Parkies (4 van 4)
DESCRIPTION:
URL:https://ondernemersfondsbreda.nl/kalender/parkies-4-van-6/
LOCATION:Park Valkenberg\, J.F. Kennedylaan\, Breda\, Noord-Brabant\, 4811XJ\, Nederland
CATEGORIES:Evenementen
END:VEVENT
END:VCALENDAR